BEGIN:VCALENDAR
VERSION:2.0
PRODID:-//wp-events-plugin.com//7.2.3.1//EN
TZID:Europe/Zurich
X-WR-TIMEZONE:Europe/Zurich
BEGIN:VEVENT
UID:116@qkk6.ch
DTSTART;TZID=Europe/Zurich:20200622T200000
DTEND;TZID=Europe/Zurich:20200622T200000
DTSTAMP:20200505T072005Z
URL:https://www.qkk6.ch/events/2020/06/22/duo-joncol-joncol4-luz-de-iberia
 /
SUMMARY:Abgesagt: Duo Joncol/Joncol4 - Luz de Iberia
DESCRIPTION:Duo Joncol/Joncol4 – Luz de Iberia\nVirtuos und lebhaft\, lyr
 isch und romantisch\, dabei immer differenziert und sensibel aufeinander a
 bgestimmt berührt das deutsch-spanische Duo Joncol mit seinem intimen mus
 ikalischen Dialog. Die beiden in Zürich lebenden Gitarristen Britta Schmi
 tt und Carles Guisado faszinieren mit ihrer Art zu Musizieren.&nbsp\;Seit 
 ihrer Gründung 2008 gewannen sie zahlreiche Preise bei internationalen We
 ttbewerben und haben ihr musikalisches Schaffen auf mittlerweile drei CDs 
 festgehalten.\nDas Duo Joncol entwirft außergewöhnliche Konzertprogramme
 \, in die es neben der reichen Gitarrentradition auch neue spanische Musik
  einbindet. Es arbeitet dazu intensiv mit Komponisten und ebenso mit Küns
 tlern anderer Sparten und Musikstile zusammen.\nFür ihr Konzert im Theate
 r Rigiblick haben sie den Flamencosänger Albert Cases «El Gato» und den
  Perkussionisten Kurt Fuhrmann eingeladen. Spanischen Meistern wie Manuel 
 de Falla und Isaac Albeniz stellen sie neuen Kompositionen von Carles Guis
 ado gegenüber. Freuen Sie sich auf ein Konzerterlebnis der besonderen Art
  in Duo und Quartettformationen und lassen Sie sich von der Musik Spaniens
  verzaubern!\n\nGitarre&nbsp\;&nbsp\;&nbsp\;&nbsp\;&nbsp\;&nbsp\;&nbsp\;&n
 bsp\;&nbsp\;&nbsp\;&nbsp\;&nbsp\;&nbsp\;&nbsp\;&nbsp\;&nbsp\;&nbsp\;&nbsp\
 ; Britta Schmitt\nGitarre&nbsp\;&nbsp\;&nbsp\;&nbsp\;&nbsp\;&nbsp\;&nbsp\;
 &nbsp\;&nbsp\;&nbsp\;&nbsp\;&nbsp\;&nbsp\;&nbsp\;&nbsp\;&nbsp\;&nbsp\;&nbs
 p\; Carles Guisado\nFlamencogesang&nbsp\;&nbsp\; Albert Cases\nPerkussion&
 nbsp\;&nbsp\;&nbsp\;&nbsp\;&nbsp\;&nbsp\;&nbsp\;&nbsp\;&nbsp\;&nbsp\;&nbsp
 \;&nbsp\; Kurt Fuhrmann\n\nwww.duojoncol.com\n\nEintrittspreise (freie Pla
 tzwahl) Fr. 3o.– / 25.-&nbsp\; Reservation 044 361 80 51 oder tickets@th
 eater-rigiblick.ch
ATTACH;FMTTYPE=image/jpeg:https://www.qkk6.ch/wp-content/uploads/DuoJoncol
 .jpg
CATEGORIES:Konzert
LOCATION:Theater Rigiblick\, Germaniastrasse 99\, Zürich\, 8044\, Schweiz
GEO:47.388274;8.553456
X-APPLE-STRUCTURED-LOCATION;VALUE=URI;X-ADDRESS=Germaniastrasse 99\, Züric
 h\, 8044\, Schweiz;X-APPLE-RADIUS=100;X-TITLE=Theater Rigiblick:geo:47.388
 274,8.553456
END:VEVENT
BEGIN:VTIMEZONE
TZID:Europe/Zurich
X-LIC-LOCATION:Europe/Zurich
BEGIN:DAYLIGHT
DTSTART:20200329T030000
TZOFFSETFROM:+0100
TZOFFSETTO:+0200
TZNAME:CEST
END:DAYLIGHT
END:VTIMEZONE
END:VCALENDAR