BEGIN:VCALENDAR
VERSION:2.0
PRODID:-//wp-events-plugin.com//7.2.3.1//EN
TZID:Europe/Zurich
X-WR-TIMEZONE:Europe/Zurich
BEGIN:VEVENT
UID:119@qkk6.ch
DTSTART;TZID=Europe/Zurich:20200608T200000
DTEND;TZID=Europe/Zurich:20200609T200000
DTSTAMP:20200505T072027Z
URL:https://www.qkk6.ch/events/2020/06/08/balladen-im-rigiblick-20/
SUMMARY:Abgesagt: Balladen im Rigiblick
DESCRIPTION:Balladen: Mozart auf der Reise nach Prag\nEduard Mörike - Wolf
 gang Amadeus Mozart\n\nDie zauberhafte\, ebenso kunstvolle wie berührende
  Erzählung „Mozart auf der Reise nach Prag“ setzt den Schlusspunkt hi
 nter das Balladen Projekt im Theater Rigiblick: Das Schauspiel-Ensemble de
 r erfolgreichen „Amadeus“-Produktion im Theater Rigiblick nimmt sich d
 es Textes an\, die Amadeus-Musikerinnen und –Musiker bieten den geeignet
 en Rahmen. Es versteht sich\, dass Mozart angesagt ist.\n\nEine Koprodukti
 on vom Theater Rigiblick mit der Quartier-Kultur Kreis 6\n\nAndreas Matti 
 \nRomeo Meyer \nAlexandre Pelichet \nPeter Hottinger \nNoémie Alexa Fial
 a \nPeter Fischli \nDelio Malär \n\nMusik\nDas Galatea Quartett\nYuka Tsu
 boi\nSarah Kilchenmann\nJulien Kilchenmann\nHugo Bollschweiler\nEriko Kaga
 wa\nGurgen Kakoyan\nTomás Gallart\nCatarina Castro\n\nMusikalische Leitu
 ng &nbsp\;&nbsp\;&nbsp\;&nbsp\; Daniel Fueter\nLichtdesign&nbsp\;&nbsp\;&n
 bsp\;&nbsp\;&nbsp\;&nbsp\;&nbsp\;&nbsp\;&nbsp\;&nbsp\;&nbsp\;&nbsp\;&nbsp\
 ;&nbsp\;&nbsp\;&nbsp\;&nbsp\;&nbsp\;&nbsp\;&nbsp\; Li Sanli\n\nEintrittspr
 eise (freie Platzwahl) Fr. 33.– / 28.– / 15.–\, Reservation: 044 361
  80 51 oder tickets@theater-rigiblick.ch
ATTACH;FMTTYPE=image/jpeg:https://www.qkk6.ch/wp-content/uploads/fueter.jp
 g
CATEGORIES:Konzert,Lesung
LOCATION:Theater Rigiblick\, Germaniastrasse 99\, Zürich\, 8044\, Schweiz
GEO:47.388274;8.553456
X-APPLE-STRUCTURED-LOCATION;VALUE=URI;X-ADDRESS=Germaniastrasse 99\, Züric
 h\, 8044\, Schweiz;X-APPLE-RADIUS=100;X-TITLE=Theater Rigiblick:geo:47.388
 274,8.553456
END:VEVENT
BEGIN:VTIMEZONE
TZID:Europe/Zurich
X-LIC-LOCATION:Europe/Zurich
BEGIN:DAYLIGHT
DTSTART:20200329T030000
TZOFFSETFROM:+0100
TZOFFSETTO:+0200
TZNAME:CEST
END:DAYLIGHT
END:VTIMEZONE
END:VCALENDAR