BEGIN:VCALENDAR
VERSION:2.0
PRODID:-//wp-events-plugin.com//7.2.3.1//EN
TZID:Europe/Zurich
X-WR-TIMEZONE:Europe/Zurich
BEGIN:VEVENT
UID:117@qkk6.ch
DTSTART;TZID=Europe/Zurich:20200603T200000
DTEND;TZID=Europe/Zurich:20200603T200000
DTSTAMP:20200418T105426Z
URL:https://www.qkk6.ch/events/2020/06/03/filmabend-charlie-chaplin-roesli
 schuer-zuerich/
SUMMARY:Abgesagt: Filmabend: Charlie Chaplin
DESCRIPTION:&nbsp\;Charlie Chaplin zu Besuch in der Röslischüür\nNach ei
 ner Kindheit in Waisenhäusern zieht Charlie Chaplin als Strassenkünstler
  durch die USA und entwickelt den Tramp-Charakter\, der ihn weltberühmt m
 acht: ein altes Paar Schuhe\, Melone\, zu kleine Jacke\, falscher Bart - z
 u sehen in zwei frühen Kurzfilmen. In späteren Jahren komponiert Chaplin
  auch die Musik zu seinen Filmen. Wir erfahren viel Wissenswertes im Vortr
 ag "Chaplin und die Musik" und hören ein paar Highlights seiner Filmsongs
 .\n\nText&nbsp\;&nbsp\;&nbsp\;&nbsp\;&nbsp\;&nbsp\;&nbsp\;&nbsp\;&nbsp\;&n
 bsp\;&nbsp\;&nbsp\; Felix Wicki\nKlarinette&nbsp\;&nbsp\;&nbsp\; Fides auf
  der Maur\nKlavier&nbsp\;&nbsp\;&nbsp\;&nbsp\;&nbsp\;&nbsp\;&nbsp\;&nbsp\;
  Karin Weissberg\nFilme: The vagabond / The immigrant\nMusikstücke: Etern
 ally (aus Limelight) / Without you (aus a King in New York) / Beautiful\, 
 wonderful eyes (aus City Lights)\n\nEintritt frei\, Kollekte\nNach der Ver
 anstaltung sind alle zu einem Apéro eingeladen
ATTACH;FMTTYPE=image/jpeg:https://www.qkk6.ch/wp-content/uploads/film.png
CATEGORIES:Film,Konzert,Lesung
LOCATION:Röslischüür\, Röslistrasse 9\, Zürich\, 8006\, Schweiz
GEO:47.388508;8.541154
X-APPLE-STRUCTURED-LOCATION;VALUE=URI;X-ADDRESS=Röslistrasse 9\, Zürich\,
  8006\, Schweiz;X-APPLE-RADIUS=100;X-TITLE=Röslischüür:geo:47.388508,8.
 541154
END:VEVENT
BEGIN:VTIMEZONE
TZID:Europe/Zurich
X-LIC-LOCATION:Europe/Zurich
BEGIN:DAYLIGHT
DTSTART:20200329T030000
TZOFFSETFROM:+0100
TZOFFSETTO:+0200
TZNAME:CEST
END:DAYLIGHT
END:VTIMEZONE
END:VCALENDAR