BEGIN:VCALENDAR
VERSION:2.0
PRODID:-//wp-events-plugin.com//7.2.3.1//EN
TZID:Europe/Zurich
X-WR-TIMEZONE:Europe/Zurich
BEGIN:VEVENT
UID:115@qkk6.ch
DTSTART;TZID=Europe/Zurich:20200527T200000
DTEND;TZID=Europe/Zurich:20200527T200000
DTSTAMP:20200418T105403Z
URL:https://www.qkk6.ch/events/2020/05/27/filmabend-zwischen-den-kulturen-
 roeslischuer-zuerich/
SUMMARY:Abgesagt: Filmabend: Zwischen den Kulturen
DESCRIPTION:„ZWISCHEN DEN KULTUREN“\n- auf den Spuren von Thomas Manns 
 Mutter durch Brasilien\nEin Film von Peter K. Wehrli und Peter von Gunten\
 n\nNach der GV der Quartier Kultur Kreis 6 laden wir zum Filmabend mit Pet
 er K. Wehrli ein\n\nEintritt frei\, Kollekte\nNach der Lesung sind alle zu
  einem Apéro eingeladen
ATTACH;FMTTYPE=image/jpeg:https://www.qkk6.ch/wp-content/uploads/pkwkleine
 r-e1626338620582.png
CATEGORIES:Film
LOCATION:Röslischüür\, Röslistrasse 9\, Zürich\, 8006\, Schweiz
GEO:47.388508;8.541154
X-APPLE-STRUCTURED-LOCATION;VALUE=URI;X-ADDRESS=Röslistrasse 9\, Zürich\,
  8006\, Schweiz;X-APPLE-RADIUS=100;X-TITLE=Röslischüür:geo:47.388508,8.
 541154
END:VEVENT
BEGIN:VTIMEZONE
TZID:Europe/Zurich
X-LIC-LOCATION:Europe/Zurich
BEGIN:DAYLIGHT
DTSTART:20200329T030000
TZOFFSETFROM:+0100
TZOFFSETTO:+0200
TZNAME:CEST
END:DAYLIGHT
END:VTIMEZONE
END:VCALENDAR