BEGIN:VCALENDAR
VERSION:2.0
PRODID:-//wp-events-plugin.com//7.2.3.1//EN
TZID:Europe/Zurich
X-WR-TIMEZONE:Europe/Zurich
BEGIN:VEVENT
UID:112@qkk6.ch
DTSTART;TZID=Europe/Zurich:20200525T200000
DTEND;TZID=Europe/Zurich:20200525T200000
DTSTAMP:20200418T105334Z
URL:https://www.qkk6.ch/events/2020/05/25/balladen-im-rigiblick-15/
SUMMARY:Abgesagt: Balladen im Rigiblick
DESCRIPTION:Balladen: Vom Zaubern und Tauchen\nGoethe\, Schiller\, Schubert
 \n\nSonderkonzert\n\nDas in der letzten Saison ausgefallene Konzert wird n
 achgeholt. Damit kommt das „klassische“ Balladenprogramm doch noch zum
  Zug! Bekanntes und Unbekanntes von Goethe und Schiller und einige der gew
 altigen Balladenvertonungen von Franz Schubert stehen auf dem Programm.\nM
 eriam Abbas rezitiert Goethe und Schiller. Werner Güra und Christoph Bern
 er tragen Schubert Balladen vor – berühmte Stücke\, die doch selten im
  Konzertsaal zu hören sind.\n\nEine Koproduktion vom Theater Rigiblick mi
 t der Quartier-Kultur Kreis 6\n\nRezitation&nbsp\;&nbsp\;&nbsp\; Meriam Ab
 bas\nTenor &nbsp\; &nbsp\;&nbsp\;&nbsp\;&nbsp\;&nbsp\;&nbsp\;&nbsp\; Werne
 r Güra\nKlavier&nbsp\;&nbsp\;&nbsp\;&nbsp\;&nbsp\;&nbsp\;&nbsp\;&nbsp\; C
 hristoph Berner\nKonzept&nbsp\;&nbsp\;&nbsp\;&nbsp\;&nbsp\;&nbsp\; Daniel 
 Fueter\nLicht&nbsp\;&nbsp\;&nbsp\;&nbsp\;&nbsp\;&nbsp\;&nbsp\;&nbsp\;&nbsp
 \;&nbsp\;&nbsp\; Simone Kaufmann\n\nEintrittspreise (freie Platzwahl) Fr. 
 33.– / 28.– / 15.–\, Reservation: 044 361 80 51 oder tickets@theater
 -rigiblick.ch
ATTACH;FMTTYPE=image/jpeg:https://www.qkk6.ch/wp-content/uploads/tenorgro.
 png
CATEGORIES:Konzert,Lesung
LOCATION:Theater Rigiblick\, Germaniastrasse 99\, Zürich\, 8044\, Schweiz
GEO:47.388274;8.553456
X-APPLE-STRUCTURED-LOCATION;VALUE=URI;X-ADDRESS=Germaniastrasse 99\, Züric
 h\, 8044\, Schweiz;X-APPLE-RADIUS=100;X-TITLE=Theater Rigiblick:geo:47.388
 274,8.553456
END:VEVENT
BEGIN:VTIMEZONE
TZID:Europe/Zurich
X-LIC-LOCATION:Europe/Zurich
BEGIN:DAYLIGHT
DTSTART:20200329T030000
TZOFFSETFROM:+0100
TZOFFSETTO:+0200
TZNAME:CEST
END:DAYLIGHT
END:VTIMEZONE
END:VCALENDAR