BEGIN:VCALENDAR
VERSION:2.0
PRODID:-//wp-events-plugin.com//7.2.3.1//EN
TZID:Europe/Zurich
X-WR-TIMEZONE:Europe/Zurich
BEGIN:VEVENT
UID:109@qkk6.ch
DTSTART;TZID=Europe/Zurich:20200518T200000
DTEND;TZID=Europe/Zurich:20200518T200000
DTSTAMP:20200418T105312Z
URL:https://www.qkk6.ch/events/2020/05/18/bluescht/
SUMMARY:Abgesagt: Bluescht
DESCRIPTION:Bluescht: Stef Stauffer liest aus ihrem neuen Buch mit Musik vo
 n Resli Burri\n\nZfrideheit syg d Würklechkeit minus d Erwartige. U we me
  de das Ergäbnis no dür zwöi hätti teeut\, de wär men am Glück vermu
 etlech zimlech naach cho.\n\nSie demoliert die Romantik und bringt es auf 
 den Punkt. Berndeutsch und deutlich. Stef Stauffer bringt mit dem Roman Bl
 uescht die Fortsetzung ihrer Geschichte Hingerhang auf die Bühne\, zusamm
 en mit Resli Burri\, der dem frechen Text die passende Note verleiht – o
 der deren zwei\, drei.\n\nStef Stauffers verwegene Protagonistin\, inzwisc
 hen um ein paar Jahre reifer\, weiss\, wozu man erwachsen wird. Ganz siche
 r nicht\, um sich sagen zu lassen\, wo Aromat oder Nutella zu stehen haben
 . Sie pfeift auf gute Ratschläge – es sei denn\, sie kommen aus dem Alt
 ersheim. Denn das Fräulein Mettler darf fast alles\, sie kennt sich schli
 esslich aus. Wenn auch nicht mit den Männern. Oder vielleicht doch? Vermu
 tlich besser als Büse oder Kää\, die selber nicht wissen\, was sie woll
 en\, dies aber niemals zugeben würden.\n\nEintrittspreise Fr. 3o.– / 25
 .- (freie Platzwahl)\, Reservation: 044 361 80 51 oder tickets@theater-rig
 iblick.ch\n\n&nbsp\;Stef Stauffer\, geboren 1965 in Bern\, lebt im Onserno
 netal und in Zürich\, arbeitet bei der "Tessiner Zeitung"\, als freie Jou
 rnalistin und als Schriftstellerin. Bisher erschienen sind ihre Romane "St
 eile Welt. Leben im Onsernone" (2012)\, "Bis das Ross im Himmel ist" (2014
 )\, "Marthas Gäste" (2017)\, "Die Signora Will allein sein" (2018) und "H
 ingerhang" (2018). "Bluescht" ist ihr zweiter Mundartroman. www.stefstauff
 er.com\n\nResli Burri\, geboren 1959 in Sao Paulo\, Brasilien\, lebte vier
  Jahre in Lausanne\, jetzt in Bern und ist Lastwagenfahrer und Klavierbaue
 r. Als Musiker spielte er in diversen Bands wie "Bluff"\, "Al Dente"\, "Ho
 usi Wittlin"\, "Patent Ochsner"\, "Les trois Suisses"\, "The Dead Brothers
 " und "DRÜ". Er macht Film-\, Theater- und Zirkusmusik\, 2019 ist er mit 
 dem Musikpreis des Kantons Bern ausgezeichnet worden. www.resli.ch
CATEGORIES:Konzert,Lesung
LOCATION:Theater Rigiblick\, Germaniastrasse 99\, Zürich\, 8044\, Schweiz
GEO:47.388274;8.553456
X-APPLE-STRUCTURED-LOCATION;VALUE=URI;X-ADDRESS=Germaniastrasse 99\, Züric
 h\, 8044\, Schweiz;X-APPLE-RADIUS=100;X-TITLE=Theater Rigiblick:geo:47.388
 274,8.553456
END:VEVENT
BEGIN:VTIMEZONE
TZID:Europe/Zurich
X-LIC-LOCATION:Europe/Zurich
BEGIN:DAYLIGHT
DTSTART:20200329T030000
TZOFFSETFROM:+0100
TZOFFSETTO:+0200
TZNAME:CEST
END:DAYLIGHT
END:VTIMEZONE
END:VCALENDAR