BEGIN:VCALENDAR
VERSION:2.0
PRODID:-//wp-events-plugin.com//7.2.3.1//EN
TZID:Europe/Zurich
X-WR-TIMEZONE:Europe/Zurich
BEGIN:VEVENT
UID:110@qkk6.ch
DTSTART;TZID=Europe/Zurich:20200511T200000
DTEND;TZID=Europe/Zurich:20200511T200000
DTSTAMP:20200418T105255Z
URL:https://www.qkk6.ch/events/2020/05/11/balladen-im-rigiblick-19/
SUMMARY:Abgesagt: Balladen im Rigiblick
DESCRIPTION:Marienleben\nRainer Maria Rilke - Marina Zwetajewa - Paul Hinde
 mith\n\nKapitel IX\n\nDie Sopranistin Rachel Harnisch und der Pianist Jan 
 Philip Schulze gastieren mit seinem grossen Repertoire auf der ganzen Welt
 . Eine besondere Vorliebe hat das Liedduo für Paul Hindemiths Vertonung d
 es Gedichtzyklus „Marienleben“ von Rainer Maria Rilke\, einem Hauptwer
 k der Gattung Liedzyklus im 20. Jahrhundert.\nDie Dichterin Ilma Rakusa be
 gleitet die musikalische Darbietung mit der Lesung ihrer Übersetzung der 
 Erzählung „Die Kirillstöchter“ von Marina Zwetajewa.\n\nEine Koprodu
 ktion vom Theater Rigiblick mit der Quartier-Kultur Kreis 6\n\nRezitation&
 nbsp\;&nbsp\;&nbsp\; Ilma Rakusa\nSopran&nbsp\;&nbsp\;&nbsp\;&nbsp\;&nbsp\
 ;&nbsp\;&nbsp\;&nbsp\; Rachel Harnisch\nKlavier&nbsp\;&nbsp\;&nbsp\;&nbsp\
 ;&nbsp\;&nbsp\;&nbsp\;&nbsp\; Jan Philip Schulze\nKonzept&nbsp\;&nbsp\;&nb
 sp\;&nbsp\;&nbsp\;&nbsp\; Daniel Fueter\nLicht&nbsp\;&nbsp\;&nbsp\;&nbsp\;
 &nbsp\;&nbsp\;&nbsp\;&nbsp\;&nbsp\;&nbsp\;&nbsp\; Simone Kaufmann\n\nEintr
 ittspreise (freie Platzwahl) Fr. 33.– / 28.– / 15.–\, Reservation: 0
 44 361 80 51 oder tickets@theater-rigiblick.ch
ATTACH;FMTTYPE=image/jpeg:https://www.qkk6.ch/wp-content/uploads/mariengr-
 1.png
CATEGORIES:Konzert,Lesung
LOCATION:Theater Rigiblick\, Germaniastrasse 99\, Zürich\, 8044\, Schweiz
GEO:47.388274;8.553456
X-APPLE-STRUCTURED-LOCATION;VALUE=URI;X-ADDRESS=Germaniastrasse 99\, Züric
 h\, 8044\, Schweiz;X-APPLE-RADIUS=100;X-TITLE=Theater Rigiblick:geo:47.388
 274,8.553456
END:VEVENT
BEGIN:VTIMEZONE
TZID:Europe/Zurich
X-LIC-LOCATION:Europe/Zurich
BEGIN:DAYLIGHT
DTSTART:20200329T030000
TZOFFSETFROM:+0100
TZOFFSETTO:+0200
TZNAME:CEST
END:DAYLIGHT
END:VTIMEZONE
END:VCALENDAR