BEGIN:VCALENDAR
VERSION:2.0
PRODID:-//wp-events-plugin.com//7.2.3.1//EN
TZID:Europe/Zurich
X-WR-TIMEZONE:Europe/Zurich
BEGIN:VEVENT
UID:111@qkk6.ch
DTSTART;TZID=Europe/Zurich:20200427T200000
DTEND;TZID=Europe/Zurich:20200427T200000
DTSTAMP:20200316T074256Z
URL:https://www.qkk6.ch/events/2020/04/27/balladen-im-rigiblick-16/
SUMMARY:Abgesagt: Balladen im Rigiblick
DESCRIPTION:Oh du lieber Augustin: Kakanische Balladen\nPeter Schweiger und
  Petra Ronner bieten ein österreichisches Kaleidoskop an\, welches dem Wi
 tz\, dem Ausgefallenen und Grotesken viel Raum gibt.\nEin farbiger Text- u
 nd Musik-Reigen erzählt vom allmählichen Verfall einer Weltmacht.\nUngez
 ählte Dichterinnen und Komponisten kommen zu Wort: Marie von Ebner Eschen
 bach\, Roda Roda\, Bartok und Schulhoff\, Grillparzer\, Werfel\, Alban Ber
 g. Ein Balladenabend der Spezialitäten.\n\nEine Koproduktion vom Theater 
 Rigiblick mit der Quartier-Kultur Kreis 6\n\nRezitation&nbsp\;&nbsp\;&nbsp
 \;&nbsp\;&nbsp\;&nbsp\;&nbsp\;&nbsp\; Peter Schweiger&nbsp\;\nKlavier&nbsp
 \;&nbsp\;&nbsp\;&nbsp\;&nbsp\;&nbsp\;&nbsp\;&nbsp\;&nbsp\;&nbsp\;&nbsp\;&n
 bsp\;&nbsp\; Petra Ronner&nbsp\;&nbsp\;&nbsp\;&nbsp\;&nbsp\;&nbsp\;\n\nEin
 trittspreise (freie Platzwahl) Fr. 33.– / 28.– / 15.–&nbsp\;&nbsp\;&
 nbsp\;&nbsp\; Vorverkauf und Reservation: 044 361 83 38 oder tickets@theat
 er-rigiblick.ch
ATTACH;FMTTYPE=image/jpeg:https://www.qkk6.ch/wp-content/uploads/augustin.
 jpg
CATEGORIES:Konzert,Lesung
LOCATION:Theater Rigiblick\, Germaniastrasse 99\, Zürich\, 8044\, Schweiz
GEO:47.388274;8.553456
X-APPLE-STRUCTURED-LOCATION;VALUE=URI;X-ADDRESS=Germaniastrasse 99\, Züric
 h\, 8044\, Schweiz;X-APPLE-RADIUS=100;X-TITLE=Theater Rigiblick:geo:47.388
 274,8.553456
END:VEVENT
BEGIN:VTIMEZONE
TZID:Europe/Zurich
X-LIC-LOCATION:Europe/Zurich
BEGIN:DAYLIGHT
DTSTART:20200329T030000
TZOFFSETFROM:+0100
TZOFFSETTO:+0200
TZNAME:CEST
END:DAYLIGHT
END:VTIMEZONE
END:VCALENDAR