BEGIN:VCALENDAR
VERSION:2.0
PRODID:-//wp-events-plugin.com//7.2.3.1//EN
TZID:Europe/Zurich
X-WR-TIMEZONE:Europe/Zurich
BEGIN:VEVENT
UID:103@qkk6.ch
DTSTART;TZID=Europe/Zurich:20200409T200000
DTEND;TZID=Europe/Zurich:20200409T200000
DTSTAMP:20200316T074234Z
URL:https://www.qkk6.ch/events/2020/04/09/lesung-mathias-ninck-roeslischue
 r-zuerich/
SUMMARY:Abgesagt: Lesung Mathias Ninck
DESCRIPTION:Mathias Ninck\n\nMordslügen\nEine stadtbekannte Psychiaterin s
 türzt nachts in einen Abwasserschacht. Damit kommt eine Geschichte in Gan
 g\, die auch den Reporter Simon Busche in die Tiefe reissen wird. Dort unt
 en\, im Gully\, beschliesst die Psychiaterin nämlich\, ihr grosses Lebens
 geheimnis zu lüften. Vor dreissig Jahren hatte ein Patient in der Therapi
 e einen Mord angekündigt und dann wohl auch begangen\, aber ins Gefängni
 s wanderte eine junge Frau. Sie hatte den Mord gestanden. Simon Busche\, d
 em die Psychiaterin von diesem falschen Geständnis erzählt\, schreibt di
 e Story seines Lebens. Zu spät erkennt er\, wen er damit gegen sich aufbr
 ingt.\nMathias Ninck beleuchtet in seinem Roman das Phänomen falscher Ges
 tändnisse\, entstanden unter Druck oder aus Geltungssucht. Die Geschichte
  ist rasant erzählt\, mal ironisch\, mal nachdenklich. Die knappen Szenen
  formen ein Tableau\, das die Welt des Frauengefängnisses und der klugen\
 , eindrücklich gezeichneten ›Mörderin‹ mit der kalten und oft zynisc
 hen Medienwelt verkettet. Ein Roman\, der aufzeigt\, dass der Mensch\, wen
 n überhaupt\, in der Niederlage zu sich selbst findet\, nicht im Erfolg.\
 n\nMathias Ninck&nbsp\;&nbsp\;&nbsp\;&nbsp\;&nbsp\;&nbsp\;&nbsp\;&nbsp\; L
 esung &amp\; Autorengespräch\nAurelia Weber&nbsp\;&nbsp\;&nbsp\;&nbsp\;&n
 bsp\;&nbsp\;&nbsp\;&nbsp\; Gitarre &amp\; Gesang\n\nEintritt frei\, Kollek
 te\nNach der Lesung sind alle zu einem Apéro eingeladen\nRegine Mitternac
 ht\, ekz Bibliotheksservice: «Die Erwartungshaltung wird immer wieder dur
 chkreuzt\; am Schluss weiss man nicht\, wer wen manipuliert\, wer hat Schu
 ld\, wer hat Macht\, was sind Fake-News? Für alle empfohlen\, die es aush
 alten\, am Ende eines spannenden Buches keine eindeutige Lösung zu erhalt
 en.»\nMartina Läubli\, NZZ: «Ein präzis erzählter Roman\, eine Parabe
 l auf die Suche nach Wahrheit.»
ATTACH;FMTTYPE=image/jpeg:https://www.qkk6.ch/wp-content/uploads/Porträt-
 Ninck.jpg
CATEGORIES:Konzert,Lesung
LOCATION:Röslischüür\, Röslistrasse 9\, Zürich\, 8006\, Schweiz
GEO:47.388508;8.541154
X-APPLE-STRUCTURED-LOCATION;VALUE=URI;X-ADDRESS=Röslistrasse 9\, Zürich\,
  8006\, Schweiz;X-APPLE-RADIUS=100;X-TITLE=Röslischüür:geo:47.388508,8.
 541154
END:VEVENT
BEGIN:VTIMEZONE
TZID:Europe/Zurich
X-LIC-LOCATION:Europe/Zurich
BEGIN:DAYLIGHT
DTSTART:20200329T030000
TZOFFSETFROM:+0100
TZOFFSETTO:+0200
TZNAME:CEST
END:DAYLIGHT
END:VTIMEZONE
END:VCALENDAR