BEGIN:VCALENDAR
VERSION:2.0
PRODID:-//wp-events-plugin.com//7.2.3.1//EN
TZID:Europe/Zurich
X-WR-TIMEZONE:Europe/Zurich
BEGIN:VEVENT
UID:108@qkk6.ch
DTSTART;TZID=Europe/Zurich:20200406T200000
DTEND;TZID=Europe/Zurich:20200406T200000
DTSTAMP:20200316T074209Z
URL:https://www.qkk6.ch/events/2020/04/06/herzliche-einladung-zum-einmalig
 en-filmabend-mit-karin-weissberg-2/
SUMMARY:Abgesagt: Herzliche Einladung zum einmaligen Filmabend mit Karin We
 issberg
DESCRIPTION:Nanook of the North - Nanuk der Eskimo\n\nStummfilm (USA) von R
 obert Flaherty aus dem Jahr 1922\, am Klavier begleitet von Karin Weissber
 g\n\nAuch fast hundert Jahre nach der Uraufführung ist "Nanuk der Eskimo"
  ein bewegendes Dokument vom Leben der Inuit&nbsp\;\nim Norden Kanadas: si
 e wohnen in Iglus\, die sie aus Schneeblöcken bauen\, sie jagen ihre Haup
 tnahrung - Walrosse\, Fische und Robben -&nbsp\;\nmit Harpunen. Trotz alle
 r Kargheit des Lebens wirken Nanuk und seine Familie glücklich.\nDer Klas
 siker des Dokumentarfilms und zugleich der erste grosse Film\, der in der 
 Arktis gedreht wurde.\n\nReservationen: 044 361 80 51 oder tickets@theater
 -rigiblick.ch. Keine Abendkasse\, freier Eintritt\, Kollekte für Karin We
 issberg\n\n&nbsp\;
ATTACH;FMTTYPE=image/jpeg:https://www.qkk6.ch/wp-content/uploads/weissberg
 inuit.png
CATEGORIES:Film,Konzert
LOCATION:Theater Rigiblick\, Germaniastrasse 99\, Zürich\, 8044\, Schweiz
GEO:47.388274;8.553456
X-APPLE-STRUCTURED-LOCATION;VALUE=URI;X-ADDRESS=Germaniastrasse 99\, Züric
 h\, 8044\, Schweiz;X-APPLE-RADIUS=100;X-TITLE=Theater Rigiblick:geo:47.388
 274,8.553456
END:VEVENT
BEGIN:VTIMEZONE
TZID:Europe/Zurich
X-LIC-LOCATION:Europe/Zurich
BEGIN:DAYLIGHT
DTSTART:20200329T030000
TZOFFSETFROM:+0100
TZOFFSETTO:+0200
TZNAME:CEST
END:DAYLIGHT
END:VTIMEZONE
END:VCALENDAR