BEGIN:VCALENDAR
VERSION:2.0
PRODID:-//wp-events-plugin.com//7.2.3.1//EN
TZID:Europe/Zurich
X-WR-TIMEZONE:Europe/Zurich
BEGIN:VEVENT
UID:113@qkk6.ch
DTSTART;TZID=Europe/Zurich:20200330T200000
DTEND;TZID=Europe/Zurich:20200330T200000
DTSTAMP:20200316T074140Z
URL:https://www.qkk6.ch/events/2020/03/30/balladen-im-rigiblick-17/
SUMMARY:Abgesagt: Balladen im Rigiblick
DESCRIPTION:Balladen: Die schöne Magelone\nMit Udo Samel\, Christoph Prég
 ardien und Hartmut Höll. Texte von Ludwig Tieck\nMusik von Johannes Brahm
 s\n\nDer Liederzyklus „Die schöne Magelone“ von Johannes Brahms gehö
 rt zu den Meisterwerken dieses Genres. Eingestreut in die verspielt-witzig
 e\, poetisch-unterhaltsame Erzählung von Ludwig Tieck bekommen die einzel
 nen Lieder besonderen Glanz.\nGrosse ihres Fachs sind auf Besuch im Theate
 r Rigiblick:\nDer Tenor Christoph Prégardien\, begleitet von Hartmut Höl
 l am Klavier und als Erzähler Udo Samel\n\nEine Koproduktion vom Theater 
 Rigiblick mit der Quartier-Kultur Kreis 6\n\nErzähler &nbsp\;&nbsp\;&nbsp
 \;&nbsp\;&nbsp\;&nbsp\; Udo Samel\nTenor&nbsp\;&nbsp\;&nbsp\;&nbsp\;&nbsp\
 ;&nbsp\;&nbsp\;&nbsp\;&nbsp\;&nbsp\;&nbsp\; Christoph Prégardien\nKlavier
 &nbsp\;&nbsp\;&nbsp\;&nbsp\;&nbsp\;&nbsp\;&nbsp\;&nbsp\;&nbsp\; Hartmut H
 öll&nbsp\;\nKonzept &nbsp\;&nbsp\;&nbsp\;&nbsp\;&nbsp\;&nbsp\; Daniel Fue
 ter\nLicht&nbsp\;&nbsp\;&nbsp\;&nbsp\;&nbsp\;&nbsp\;&nbsp\;&nbsp\;&nbsp\;&
 nbsp\;&nbsp\;&nbsp\; Simone Kaufmann\n\nEintrittspreise (freie Platzwahl) 
 Fr. 33.– / 28.– / 15.–&nbsp\;&nbsp\;&nbsp\;&nbsp\; Vorverkauf und Re
 servation: 044 361 83 38 oder tickets@theater-rigiblick.ch
ATTACH;FMTTYPE=image/jpeg:https://www.qkk6.ch/wp-content/uploads/3130_udo-
 samel.jpg
CATEGORIES:Konzert,Lesung
LOCATION:Theater Rigiblick\, Germaniastrasse 99\, Zürich\, 8044\, Schweiz
GEO:47.388274;8.553456
X-APPLE-STRUCTURED-LOCATION;VALUE=URI;X-ADDRESS=Germaniastrasse 99\, Züric
 h\, 8044\, Schweiz;X-APPLE-RADIUS=100;X-TITLE=Theater Rigiblick:geo:47.388
 274,8.553456
END:VEVENT
BEGIN:VTIMEZONE
TZID:Europe/Zurich
X-LIC-LOCATION:Europe/Zurich
BEGIN:DAYLIGHT
DTSTART:20200329T030000
TZOFFSETFROM:+0100
TZOFFSETTO:+0200
TZNAME:CEST
END:DAYLIGHT
END:VTIMEZONE
END:VCALENDAR