BEGIN:VCALENDAR
VERSION:2.0
PRODID:-//wp-events-plugin.com//7.2.3.1//EN
TZID:Europe/Zurich
X-WR-TIMEZONE:Europe/Zurich
BEGIN:VEVENT
UID:104@qkk6.ch
DTSTART;TZID=Europe/Zurich:20200311T200000
DTEND;TZID=Europe/Zurich:20200311T200000
DTSTAMP:20200220T070704Z
URL:https://www.qkk6.ch/events/2020/03/11/frieda-buenzli-roeslischuer-zuer
 ich/
SUMMARY:Frida Bünzli live
DESCRIPTION:Frida Bünzli live\n\nFrida Bünzli ist eine Zürcher Comiczeic
 hnerin mit US – amerikanischen Wurzeln\, Sprechblasendichterin und passi
 onierte Anhangerin des Unsinns. Die Reise mit dem Stift führte sie an all
 e möglichen und unmöglichen Orten: sie veröffentlicht Comicserien\, Str
 ips und Cartoons in verschiedenen Tageszeitungen und Magazinen\, wie dem T
 agesanzeiger und dem Matchprogramm des Fussballclubs Zürich (FCZ). Zu ihr
 em Werk gehören aber auch Alben wie die «Abenteuer des Odysseus» oder 
 «Hirsebarden und Heldenbrei»\, eine Nabelschau des Zürcher Mittelalters
 . Frida Bünzlis Lesungen sind visuelle Wundertüten\, bei denen sie Gesch
 ichten aus der Welt der Sprechblasen mit einem Schuss Humor lesend und ill
 ustrierend erzählt.\n\nEintritt frei\, Kollekte\n\nNach der Veranstaltung
  sind alle zu einem Apéro eingeladen
ATTACH;FMTTYPE=image/jpeg:https://www.qkk6.ch/wp-content/uploads/Friedaque
 r.png
CATEGORIES:Lesung
LOCATION:Röslischüür\, Röslistrasse 9\, Zürich\, 8006\, Schweiz
GEO:47.388508;8.541154
X-APPLE-STRUCTURED-LOCATION;VALUE=URI;X-ADDRESS=Röslistrasse 9\, Zürich\,
  8006\, Schweiz;X-APPLE-RADIUS=100;X-TITLE=Röslischüür:geo:47.388508,8.
 541154
END:VEVENT
BEGIN:VTIMEZONE
TZID:Europe/Zurich
X-LIC-LOCATION:Europe/Zurich
BEGIN:STANDARD
DTSTART:20191027T020000
TZOFFSETFROM:+0200
TZOFFSETTO:+0100
TZNAME:CET
END:STANDARD
END:VTIMEZONE
END:VCALENDAR