BEGIN:VCALENDAR
VERSION:2.0
PRODID:-//wp-events-plugin.com//7.2.3.1//EN
TZID:Europe/Zurich
X-WR-TIMEZONE:Europe/Zurich
BEGIN:VEVENT
UID:102@qkk6.ch
DTSTART;TZID=Europe/Zurich:20200306T200000
DTEND;TZID=Europe/Zurich:20200306T200000
DTSTAMP:20200120T090245Z
URL:https://www.qkk6.ch/events/2020/03/06/stille-lieder-roeslischuer-zueri
 ch/
SUMMARY:Stille Lieder
DESCRIPTION:Stille Lieder\n\nMusik von Franz Schubert\, Fanny Hensel Mendel
 ssohn\, Alban Berg\, Viktor Ullmann und John Cage\n\nMusik zwischen den Ja
 hreszeiten - &nbsp\;zwischen Winter und Frühling\, sozusagen halb verschl
 afen und halb erquickt\, wird hier musiziert. In den mal romantischen\, ma
 l expressiven Liedern blickt das Gemüt sinnierend auf die weisse Landscha
 ft und den letzten Schnee\, dann wieder wirkt das neu aufblühende und spr
 iessende Leben. Und zuweilen schlagen die Herzen schon wieder recht ungest
 üm und frühlingshaft. Wobei John Cages kongeniale Vertonung von James Jo
 yces Zeilen aus Finnegans Wake die Gemüter zurück in die Stille führt.&
 nbsp\;\n\nSimona Ryser\, Sopran\nSatoko Kato\, Klavier\n\nEintritt frei\, 
 Kollekte\n\nNach der Veranstaltung sind alle zu einem Apéro eingeladen
ATTACH;FMTTYPE=image/jpeg:https://www.qkk6.ch/wp-content/uploads/ryser2.pn
 g
CATEGORIES:Konzert
LOCATION:Röslischüür\, Röslistrasse 9\, Zürich\, 8006\, Schweiz
GEO:47.388508;8.541154
X-APPLE-STRUCTURED-LOCATION;VALUE=URI;X-ADDRESS=Röslistrasse 9\, Zürich\,
  8006\, Schweiz;X-APPLE-RADIUS=100;X-TITLE=Röslischüür:geo:47.388508,8.
 541154
END:VEVENT
BEGIN:VTIMEZONE
TZID:Europe/Zurich
X-LIC-LOCATION:Europe/Zurich
BEGIN:STANDARD
DTSTART:20191027T020000
TZOFFSETFROM:+0200
TZOFFSETTO:+0100
TZNAME:CET
END:STANDARD
END:VTIMEZONE
END:VCALENDAR