BEGIN:VCALENDAR
VERSION:2.0
PRODID:-//wp-events-plugin.com//7.2.3.1//EN
TZID:Europe/Zurich
X-WR-TIMEZONE:Europe/Zurich
BEGIN:VEVENT
UID:106@qkk6.ch
DTSTART;TZID=Europe/Zurich:20200302T200000
DTEND;TZID=Europe/Zurich:20200302T200000
DTSTAMP:20200301T153254Z
URL:https://www.qkk6.ch/events/2020/03/02/h-wie-hamlet-sein-schein-design/
SUMMARY:H. wie Hamlet: Sein. Schein. Design
DESCRIPTION:H. wie Hamlet - Sein. Schein. Design\n\nNeun Schauspieler*innen
  halten dem Publikum unter der Regie des Autors Marco Hausammann-Gilardi d
 en berühmten Till-Eulen-Spiegel vor\, unterhaltsam und kurzweilig. Wirkli
 ches Theater im analogen Leben.\nDer Autor Marco Hausammann-Gilardi verweb
 t sowohl inhaltlich als auch strukturell den ursprünglichen „Hamlet“ 
 mit seinem neuen Theaterstück „H. wie Hamlet – Sein. Schein. Design.
 “\nShakespeares Originaltext wurde von ihm stark bearbeitet und weitgehe
 nd neu übersetzt. Die historische Geschichte und die Figuren des Original
 stückes bleiben erhalten. Die existenziellen Fragen werden aus heutiger P
 erspektive betrachtet und szenisch umgesetzt. Sprachlich lehnt sich Hausam
 mann-Gilardi stark an der klassischen Ausdrucksweise an\, jedoch der moder
 nen Sprache so angepasst\, dass die Dialoge leicht verständlich sind.\nZe
 itlose Themen der dunklen Seiten des Menschseins wie Machtstreben\, Gier\,
  Missgunst\, Rache oder das Vortäuschen falscher Tatsachen gehören zum I
 nstrumentarium der Machthaber. Heute kann dies durch die Welt der unbegren
 zten IT-Möglichkeiten virtuell bis hin zum Deepfake in Sekunden über den
  ganzen Globus verbreitet werden.\nDie Unausweichlichkeit von realen Tatsa
 chen und existenziell reales Erleben lösen sich auf in der Unwirklichkeit
  einer fragmentierten und grenzsprengenden Theaterproduktion. Hierbei verk
 örpern alle Figuren jeden und keinen. Das Pendel schwingt zwischen Sein u
 nd Nichtsein\, Schein und Design. Wahres Theater im wahren Leben oder doch
  alles Schein?\nTauche ein. Sei dabei. Lass Dich mitreissen.\n\nDauer: 70 
 Minuten\n\nStück und Regie: Marco Hausammann-Gilardi\nMit Mit Alessio Inf
 antino\, Andra Möckli\, Franz Kerschbaumer\, Lena Balazhi\, Luu Marini\, 
 Jeanette Christin Limberg\, Ralph Gygax\, Susanna Neugebauer\, Thomas Küh
 l\n\nEine Produktion von theater frischfleisch\nRegie- und Dramaturgieassi
 stenz: Beate Herbst\nLicht: Niels Müller\nGrafik: Susanna Neugebauer\nFot
 ografie und Video: Marco Hausammann-Gilardi\n\nEintrittspreise (freie Plat
 zwahl) Fr. 33.– / 28.– / 15.–\n\nReservation 044 361 80 51 oder tick
 ets@theater-rigiblick.ch
ATTACH;FMTTYPE=image/jpeg:https://www.qkk6.ch/wp-content/uploads/Hamlet_TP
 _13_Mid-kl-scaled.jpg
CATEGORIES:Theater
LOCATION:Theater Rigiblick\, Germaniastrasse 99\, Zürich\, 8044\, Schweiz
GEO:47.388274;8.553456
X-APPLE-STRUCTURED-LOCATION;VALUE=URI;X-ADDRESS=Germaniastrasse 99\, Züric
 h\, 8044\, Schweiz;X-APPLE-RADIUS=100;X-TITLE=Theater Rigiblick:geo:47.388
 274,8.553456
END:VEVENT
BEGIN:VTIMEZONE
TZID:Europe/Zurich
X-LIC-LOCATION:Europe/Zurich
BEGIN:STANDARD
DTSTART:20191027T020000
TZOFFSETFROM:+0200
TZOFFSETTO:+0100
TZNAME:CET
END:STANDARD
END:VTIMEZONE
END:VCALENDAR