BEGIN:VCALENDAR
VERSION:2.0
PRODID:-//wp-events-plugin.com//7.2.3.1//EN
TZID:Europe/Zurich
X-WR-TIMEZONE:Europe/Zurich
BEGIN:VEVENT
UID:100@qkk6.ch
DTSTART;TZID=Europe/Zurich:20200206T200000
DTEND;TZID=Europe/Zurich:20200206T200000
DTSTAMP:20200120T090343Z
URL:https://www.qkk6.ch/events/2020/02/06/lesung-andreas-neeser-wie-wir-ge
 hen/
SUMMARY:Lesung Andreas Neeser: wie wir gehen
DESCRIPTION:Andreas Neeser\nWie wir gehen\n\nMona möchte ihrem kranken Vat
 er Johannes näherkommen. &nbsp\;Doch die Leere zwischen ihnen macht sie e
 inander fremd. Daher bittet sie ihn\, seine Geschichte auf ein Diktierger
 ät zu sprechen. Mit präziser Erzählkunst spannt Neeser den weiten Bogen
  von Johannes‘ Kindheit\, in der er als Verdingbub auf dem Bauernhof sei
 nes Onkels schuftet\, bis in die Gegenwart\, in der seine Tochter sich ihm
  behutsam annähert: Welche Seele denkt und fühlt in diesem Menschen? Was
  für ein Leben hat ihn so werden lassen? Und wie wäre es möglich\, eina
 nder doch noch lieben zu lernen?\n\nAndreas Neeser erzählt davon\, was S
 öhne und Töchter mit ihren Vätern verbindet – und was sie voneinander
  trennt. Dabei spurt er dem widersprüchlichen Streben nach echter Zugehö
 rigkeit nach. Wie kann man sich näherkommen\, ohne einander zu erdrücken
 \, wie unabhängig sein\, ohne sich völlig zu distanzieren?\nEin feinsinn
 iger Familien- und Generationenroman: leise und voll poetischer Kraft &nbs
 p\;\n\n„Gefühle nicht nur in Worte packen\, sondern auch zwischen die Z
 eilen zu stellen – das kann Andreas Neeser hervorragend.“ Buchkritik.a
 t\, Sabine Breit\n„Andreas Neesers Sprache ist von grosser Klarheit und 
 Poesie." Neue Zürcher Zeitung\, Andrea Lüthi\n\nEintritt frei\, Kollekte
 \n\nNach der Veranstaltung sind alle zu einem Apéro eingeladen
ATTACH;FMTTYPE=image/jpeg:https://www.qkk6.ch/wp-content/uploads/3485_Nees
 er_Wiewirgehenkl3.jpg
CATEGORIES:Lesung
LOCATION:Röslischüür\, Röslistrasse 9\, Zürich\, 8006\, Schweiz
GEO:47.388508;8.541154
X-APPLE-STRUCTURED-LOCATION;VALUE=URI;X-ADDRESS=Röslistrasse 9\, Zürich\,
  8006\, Schweiz;X-APPLE-RADIUS=100;X-TITLE=Röslischüür:geo:47.388508,8.
 541154
END:VEVENT
BEGIN:VTIMEZONE
TZID:Europe/Zurich
X-LIC-LOCATION:Europe/Zurich
BEGIN:STANDARD
DTSTART:20191027T020000
TZOFFSETFROM:+0200
TZOFFSETTO:+0100
TZNAME:CET
END:STANDARD
END:VTIMEZONE
END:VCALENDAR