BEGIN:VCALENDAR
VERSION:2.0
PRODID:-//wp-events-plugin.com//7.2.3.1//EN
TZID:Europe/Zurich
X-WR-TIMEZONE:Europe/Zurich
BEGIN:VEVENT
UID:101@qkk6.ch
DTSTART;TZID=Europe/Zurich:20200203T200000
DTEND;TZID=Europe/Zurich:20200203T200000
DTSTAMP:20191121T094452Z
URL:https://www.qkk6.ch/events/2020/02/03/balladen-im-rigiblick-14/
SUMMARY:Balladen im Rigiblick
DESCRIPTION:Balladen zur Zeit mit Franz Hohler\nKapitel VI der dritten Ball
 aden-Reihe\n\n„Suworow“\, „Friedrich\, der Gerechte“\, „Der Welt
 untergang“: Einige Titel aus Franz Hohlers Balladenwerk.\n\nEr beschenkt
  die Balladenreihe mit seinem Auftritt und greift wieder einmal zum Violon
 cello.\n\n„Balladen zur Zeit“: Die alte Form wird aktualisiert. Wer Fr
 anz Hohler kennt weiss\, dass viel Hintersinn und Humor\, Scharfblick und 
 Sprachkunst zu erwarten sind.\n\nEine Zusammenarbeit vom Theater Rigiblick
  mit der Quartier-Kultur Kreis 6.\n\nMit:&nbsp\;&nbsp\;&nbsp\;&nbsp\;&nbsp
 \;&nbsp\;&nbsp\;&nbsp\;&nbsp\;&nbsp\;&nbsp\;&nbsp\;&nbsp\;&nbsp\; Franz Ho
 hler\nKonzept:&nbsp\;&nbsp\;&nbsp\;&nbsp\;&nbsp\;&nbsp\; Daniel Fueter\nLi
 cht:&nbsp\;&nbsp\;&nbsp\;&nbsp\;&nbsp\;&nbsp\;&nbsp\;&nbsp\;&nbsp\;&nbsp\;
 &nbsp\;&nbsp\; Simone Kaufmann\n\nEintrittspreise (freie Platzwahl)\nFr. 3
 3.– / 28.– / 15.–&nbsp\;&nbsp\;&nbsp\;&nbsp\; Vorverkauf und Reserva
 tion: 044 361 83 38 oder tickets@theater-rigiblick.ch
ATTACH;FMTTYPE=image/jpeg:https://www.qkk6.ch/wp-content/uploads/hohlergro
 sskl-e1595081040559.jpg
CATEGORIES:Konzert,Lesung
LOCATION:Theater Rigiblick\, Germaniastrasse 99\, Zürich\, 8044\, Schweiz
GEO:47.388274;8.553456
X-APPLE-STRUCTURED-LOCATION;VALUE=URI;X-ADDRESS=Germaniastrasse 99\, Züric
 h\, 8044\, Schweiz;X-APPLE-RADIUS=100;X-TITLE=Theater Rigiblick:geo:47.388
 274,8.553456
END:VEVENT
BEGIN:VTIMEZONE
TZID:Europe/Zurich
X-LIC-LOCATION:Europe/Zurich
BEGIN:STANDARD
DTSTART:20191027T020000
TZOFFSETFROM:+0200
TZOFFSETTO:+0100
TZNAME:CET
END:STANDARD
END:VTIMEZONE
END:VCALENDAR