BEGIN:VCALENDAR
VERSION:2.0
PRODID:-//wp-events-plugin.com//7.2.3.1//EN
TZID:Europe/Zurich
X-WR-TIMEZONE:Europe/Zurich
BEGIN:VEVENT
UID:99@qkk6.ch
DTSTART;TZID=Europe/Zurich:20200127T200000
DTEND;TZID=Europe/Zurich:20200127T200000
DTSTAMP:20200108T082227Z
URL:https://www.qkk6.ch/events/2020/01/27/racine-stimmvolk/
SUMMARY:Racine' Stimmvolk
DESCRIPTION:Racine's StimmFolk\nRacine ist Jazzsängerin.\n\nRoth\, Glaus &
 amp\; Carisch sind VokalistInnen&nbsp\; gewaschen mit allen Wassern von Re
 naissance bis Pop!\n\nà cappella machen sie sich am schweizerischen Liedg
 ut zu schaffen – graben kräftig im 'Röseligarten' herum und entdecken 
 dabei selten gehörte Songperlen\, bringen&nbsp\; alte Gassenhauer zu neue
 m Glanz und komponieren dazu neue Tänze und Lieder zu aktueller Poesie.\n
 \nEs entsteht ein Kunterbunt\, wo Herzschmerz-lieder\, Nachrichtenballaden
  &amp\; politische Ereignisse ihren Platz finden: CH-Folksmusik\, von vier
  ausdruck-starken Stimmen in bunter Kleidung vorgelegt!\n\nAlt/Arr.:&nbsp\
 ; Marianne Racine\nSopran:&nbsp\; Meret Roth\nTenor:&nbsp\;&nbsp\;&nbsp\; 
 Florian Glaus\nBass:&nbsp\;&nbsp\;&nbsp\;&nbsp\;&nbsp\; Fabian Carisch\n\n
 Eintritt: Fr. 30.--/ 25.--\n\nRe servation 044 361 80 51 oder tickets@thea
 ter-rigiblick.ch
ATTACH;FMTTYPE=image/jpeg:https://www.qkk6.ch/wp-content/uploads/racine2kl
 -scaled.jpg
CATEGORIES:Konzert
LOCATION:Theater Rigiblick\, Germaniastrasse 99\, Zürich\, 8044\, Schweiz
GEO:47.388274;8.553456
X-APPLE-STRUCTURED-LOCATION;VALUE=URI;X-ADDRESS=Germaniastrasse 99\, Züric
 h\, 8044\, Schweiz;X-APPLE-RADIUS=100;X-TITLE=Theater Rigiblick:geo:47.388
 274,8.553456
END:VEVENT
BEGIN:VTIMEZONE
TZID:Europe/Zurich
X-LIC-LOCATION:Europe/Zurich
BEGIN:STANDARD
DTSTART:20191027T020000
TZOFFSETFROM:+0200
TZOFFSETTO:+0100
TZNAME:CET
END:STANDARD
END:VTIMEZONE
END:VCALENDAR