BEGIN:VCALENDAR
VERSION:2.0
PRODID:-//wp-events-plugin.com//7.2.3.1//EN
TZID:Europe/Zurich
X-WR-TIMEZONE:Europe/Zurich
BEGIN:VEVENT
UID:98@qkk6.ch
DTSTART;TZID=Europe/Zurich:20200120T200000
DTEND;TZID=Europe/Zurich:20200120T200000
DTSTAMP:20191116T090130Z
URL:https://www.qkk6.ch/events/2020/01/20/balladen-im-rigiblick-13/
SUMMARY:Balladen im Rigiblick
DESCRIPTION:Balladen: Lieder und Tänze des Todes\nIsaak Babel und Modest M
 ussorgsky\n\nDie „Lieder und Tänze des Todes“ sind einer der wenigen 
 Liederzyklen\, die Modest Mussorgsky hinterlassen hat. Er nannte sie „To
 tentanzlieder“. Erschienen sind sie erst nach seinem Tod.\n\nEinen Toten
 tanz anderer Art beschreibt Isaak Babel in seinem berühmten Buch „Die R
 eiterarmee“\, das auf den Tagebuchaufzeichnungen des Autors\, der 1920 a
 ls Berichterstatter am Russisch-Polnischen Krieg teilnahm\, basiert. Thoma
 s Sarbacher rezitiert.\n\nRezitation:&nbsp\;&nbsp\;&nbsp\;&nbsp\;&nbsp\; T
 homas Sarbacher\nBassbariton:&nbsp\;&nbsp\;&nbsp\; Milan Siljanov\nKlavier
 :&nbsp\;&nbsp\;&nbsp\;&nbsp\;&nbsp\;&nbsp\;&nbsp\;&nbsp\;&nbsp\;&nbsp\;&nb
 sp\; Nino Chokhonelidze\nKonzept:&nbsp\;&nbsp\;&nbsp\;&nbsp\;&nbsp\;&nbsp\
 ;&nbsp\;&nbsp\; Daniel Fueter\nLicht:&nbsp\;&nbsp\;&nbsp\;&nbsp\;&nbsp\;&n
 bsp\;&nbsp\;&nbsp\;&nbsp\;&nbsp\;&nbsp\;&nbsp\;&nbsp\;&nbsp\; Simone Kaufm
 ann\n\nEine Koproduktion vom Theater Rigiblick mit der Quartier-Kultur Kre
 is 6.\n\nEintrittspreise (freie Platzwahl)\nFr. 33.– / 28.– / 15.–&n
 bsp\;&nbsp\;&nbsp\;&nbsp\; Reservation: 044 361 83 38 oder tickets@theater
 -rigiblick.ch
ATTACH;FMTTYPE=image/jpeg:https://www.qkk6.ch/wp-content/uploads/sarbacher
 .png
CATEGORIES:Konzert,Lesung
LOCATION:Theater Rigiblick\, Germaniastrasse 99\, Zürich\, 8044\, Schweiz
GEO:47.388274;8.553456
X-APPLE-STRUCTURED-LOCATION;VALUE=URI;X-ADDRESS=Germaniastrasse 99\, Züric
 h\, 8044\, Schweiz;X-APPLE-RADIUS=100;X-TITLE=Theater Rigiblick:geo:47.388
 274,8.553456
END:VEVENT
BEGIN:VTIMEZONE
TZID:Europe/Zurich
X-LIC-LOCATION:Europe/Zurich
BEGIN:STANDARD
DTSTART:20191027T020000
TZOFFSETFROM:+0200
TZOFFSETTO:+0100
TZNAME:CET
END:STANDARD
END:VTIMEZONE
END:VCALENDAR