BEGIN:VCALENDAR
VERSION:2.0
PRODID:-//wp-events-plugin.com//7.2.3.1//EN
TZID:Europe/Zurich
X-WR-TIMEZONE:Europe/Zurich
BEGIN:VEVENT
UID:97@qkk6.ch
DTSTART;TZID=Europe/Zurich:20191210T200000
DTEND;TZID=Europe/Zurich:20191210T200000
DTSTAMP:20191116T091450Z
URL:https://www.qkk6.ch/events/2019/12/10/literaturzeitschriften-stellen-s
 ich-vor-roeslischuer-zuerich-2/
SUMMARY:Literaturzeitschriften stellen sich vor
DESCRIPTION:Literaturzeitschriften stellen sich vor:\nDas Narr Literaturmag
 azin\n\nMit: Patricia Büttiker\, Maya Olah\, Anna Ospelt\, Werner Rohner\
 ;\n\nModeration: Lukas Gloor (Herausgeber)\n\nNarr – das narrativistisch
 e Literaturmagazin - steht für junge\, frische Texte. Seit 2011 publizier
 t es Stimmen\, die anderswo (noch) nicht gehört werden. Ohne Einschränku
 ngen durch Themen oder Formen suchen wir interessante Texte und spannende 
 Autor*innen. Weit über 100 Schreibende haben im Narr schon publiziert\, m
 anche zum ersten Mal überhaupt\, andere nach zahllosen Publikationen\, ei
 nige einmal\, andere vielmals\, in Narr-Kochbüchern\, -Reiseführern oder
  -Groschenromanen. 2016 Fachpreis Literatur Kanton Zürich\; 2018 Nominati
 on Swiss Design Award\; 2019 Nomination Design Preis Schweiz.\n\nwww.dasna
 rr.ch\n\nEintritt frei\, Kollekte\n\nNach der Veranstaltung sind alle zu e
 inem Apéro eigeladen.\n\n&nbsp\;
ATTACH;FMTTYPE=image/jpeg:https://www.qkk6.ch/wp-content/uploads/narrkl.pn
 g
CATEGORIES:Lesung
LOCATION:Röslischüür\, Röslistrasse 9\, Zürich\, 8006\, Schweiz
GEO:47.388508;8.541154
X-APPLE-STRUCTURED-LOCATION;VALUE=URI;X-ADDRESS=Röslistrasse 9\, Zürich\,
  8006\, Schweiz;X-APPLE-RADIUS=100;X-TITLE=Röslischüür:geo:47.388508,8.
 541154
END:VEVENT
BEGIN:VTIMEZONE
TZID:Europe/Zurich
X-LIC-LOCATION:Europe/Zurich
BEGIN:STANDARD
DTSTART:20191027T020000
TZOFFSETFROM:+0200
TZOFFSETTO:+0100
TZNAME:CET
END:STANDARD
END:VTIMEZONE
END:VCALENDAR