BEGIN:VCALENDAR
VERSION:2.0
PRODID:-//wp-events-plugin.com//7.2.3.1//EN
TZID:Europe/Zurich
X-WR-TIMEZONE:Europe/Zurich
BEGIN:VEVENT
UID:96@qkk6.ch
DTSTART;TZID=Europe/Zurich:20191209T200000
DTEND;TZID=Europe/Zurich:20191209T200000
DTSTAMP:20191112T082935Z
URL:https://www.qkk6.ch/events/2019/12/09/balladen-im-rigiblick-12/
SUMMARY:Balladen im Rigiblick
DESCRIPTION:Balladen: Hier sollten Rosen blühen\nKapitel IV: Jens Peter Ja
 cobsen - Alexander Zemlinsky\n\nDer Dichter Jacobsen und der Musiker Zemli
 nsky sind Leserinnen und Konzertgängern von heute kaum mehr bekannt.\n\nM
 ona Petri als Rezitatorin\, Mezzasopranistin Anna Krawczuk und Bariton Nik
 laus Kost - am Klavier begleitet von Daniel Fueter – nehmen das Publikum
  mit in eine geheimnisvolle Welt. Weltschmerz und Ironie\, Raffinement und
  grosse Geste. Auch Zemlinsky Vertonungen von Maeterlinck und Morgenstern 
 sind zu hören.\n\nEs sind Kostbarkeiten zu entdecken!\n\nEine Koproduktio
 n vom Theater Rigiblick mit der Quartier-Kultur Kreis 6.\n\nRezitation:&nb
 sp\;&nbsp\;&nbsp\;&nbsp\;&nbsp\;&nbsp\;&nbsp\;&nbsp\;&nbsp\;&nbsp\;&nbsp\;
 &nbsp\;&nbsp\;&nbsp\;&nbsp\;&nbsp\;&nbsp\;&nbsp\;&nbsp\;&nbsp\;&nbsp\;&nbs
 p\;&nbsp\;&nbsp\;&nbsp\;&nbsp\; Mona Petri\nMezzasopran:&nbsp\;&nbsp\;&nbs
 p\;&nbsp\;&nbsp\;&nbsp\;&nbsp\;&nbsp\;&nbsp\;&nbsp\;&nbsp\;&nbsp\;&nbsp\;&
 nbsp\;&nbsp\;&nbsp\;&nbsp\;&nbsp\;&nbsp\;&nbsp\;&nbsp\; Anna Krawczuk\nBar
 iton:&nbsp\;&nbsp\;&nbsp\;&nbsp\;&nbsp\;&nbsp\;&nbsp\;&nbsp\;&nbsp\;&nbsp\
 ;&nbsp\;&nbsp\;&nbsp\;&nbsp\;&nbsp\;&nbsp\;&nbsp\;&nbsp\;&nbsp\;&nbsp\;&nb
 sp\;&nbsp\;&nbsp\;&nbsp\;&nbsp\;&nbsp\;&nbsp\;&nbsp\;&nbsp\;&nbsp\;&nbsp\;
  Niklaus Kost\nKlavier\, Konzept\, Regie:&nbsp\;&nbsp\;&nbsp\;&nbsp\;&nbsp
 \;&nbsp\; Daniel Fueter\nLicht:&nbsp\;&nbsp\;&nbsp\;&nbsp\;&nbsp\;&nbsp\;&
 nbsp\;&nbsp\;&nbsp\;&nbsp\;&nbsp\;&nbsp\;&nbsp\;&nbsp\;&nbsp\;&nbsp\;&nbsp
 \;&nbsp\;&nbsp\;&nbsp\;&nbsp\;&nbsp\;&nbsp\;&nbsp\;&nbsp\;&nbsp\;&nbsp\;&n
 bsp\;&nbsp\;&nbsp\;&nbsp\;&nbsp\;&nbsp\;&nbsp\; Simone Kaufmann\n\nEintrit
 tspreise (freie Platzwahl)\nFr. 33.– / 28.– / 15.–&nbsp\;&nbsp\;&nbs
 p\;&nbsp\; Vorverkauf und Reservation: 044 361 83 38 oder tickets@theater-
 rigiblick.ch
ATTACH;FMTTYPE=image/jpeg:https://www.qkk6.ch/wp-content/uploads/fueter.pn
 g
CATEGORIES:Konzert,Lesung
LOCATION:Theater Rigiblick\, Germaniastrasse 99\, Zürich\, 8044\, Schweiz
GEO:47.388274;8.553456
X-APPLE-STRUCTURED-LOCATION;VALUE=URI;X-ADDRESS=Germaniastrasse 99\, Züric
 h\, 8044\, Schweiz;X-APPLE-RADIUS=100;X-TITLE=Theater Rigiblick:geo:47.388
 274,8.553456
END:VEVENT
BEGIN:VTIMEZONE
TZID:Europe/Zurich
X-LIC-LOCATION:Europe/Zurich
BEGIN:STANDARD
DTSTART:20191027T020000
TZOFFSETFROM:+0200
TZOFFSETTO:+0100
TZNAME:CET
END:STANDARD
END:VTIMEZONE
END:VCALENDAR