BEGIN:VCALENDAR
VERSION:2.0
PRODID:-//wp-events-plugin.com//7.2.3.1//EN
TZID:Europe/Zurich
X-WR-TIMEZONE:Europe/Zurich
BEGIN:VEVENT
UID:95@qkk6.ch
DTSTART;TZID=Europe/Zurich:20191124T110000
DTEND;TZID=Europe/Zurich:20191124T160000
DTSTAMP:20191112T083921Z
URL:https://www.qkk6.ch/events/2019/11/24/design-weihnachtsmarkt-2019-roes
 lischuer-zuerich-2/
SUMMARY:Design-Weihnachtsmarkt 2019
DESCRIPTION:Entdecken Sie an unserem Weihnachtsmarkt in der Röslischüür 
 Designprodukte unabhängiger Labels und KleinstproduzentInnen aus dem Krei
 s 6 und freuen Sie sich auf Quartierbegegnungen bei Glühwein\, Kaffee und
  allerlei feinen Leckereien.\n\nWir freuen uns auf einen stimmungsvollen M
 arkt mit gemütlichem Weihnachtseinkauf an der Röslistrasse 9.\n\nQKK6 Qu
 artier-Kultur Kreis 6\n\n&nbsp\;\n\n&nbsp\;\n\n&nbsp\;\n\n&nbsp\;
ATTACH;FMTTYPE=image/jpeg:https://www.qkk6.ch/wp-content/uploads/Flyer-Des
 mar19.jpg
CATEGORIES:Ausstellung
LOCATION:Röslischüür\, Röslistrasse 9\, Zürich\, 8006\, Schweiz
GEO:47.388508;8.541154
X-APPLE-STRUCTURED-LOCATION;VALUE=URI;X-ADDRESS=Röslistrasse 9\, Zürich\,
  8006\, Schweiz;X-APPLE-RADIUS=100;X-TITLE=Röslischüür:geo:47.388508,8.
 541154
END:VEVENT
BEGIN:VTIMEZONE
TZID:Europe/Zurich
X-LIC-LOCATION:Europe/Zurich
BEGIN:STANDARD
DTSTART:20191027T020000
TZOFFSETFROM:+0200
TZOFFSETTO:+0100
TZNAME:CET
END:STANDARD
END:VTIMEZONE
END:VCALENDAR