BEGIN:VCALENDAR
VERSION:2.0
PRODID:-//wp-events-plugin.com//7.2.3.1//EN
TZID:Europe/Zurich
X-WR-TIMEZONE:Europe/Zurich
BEGIN:VEVENT
UID:92@qkk6.ch
DTSTART;TZID=Europe/Zurich:20191118T200000
DTEND;TZID=Europe/Zurich:20191118T200000
DTSTAMP:20190922T115124Z
URL:https://www.qkk6.ch/events/2019/11/18/balladen-im-rigiblick-11/
SUMMARY:Balladen im Rigiblick
DESCRIPTION:Balladen: Ein Fichtenbaum steht einsam\nKapitel III: Nikolaus L
 enau und Franz Liszt\n\nIn einem zweiten Liszt-Programm stellt Jaap Achter
 berg Balladenvertonungen von Liszt (vorgetragen von Ruben Drole und Simone
  Keller) Texte von Nikolaus Lenau gegenüber.\n\nDas Thema: Einsamkeit. Es
  sind ebenfalls Texte von Johann Wolfgang von Goethe und Heinrich Heine zu
  hören.\n\nRezitation:&nbsp\;&nbsp\;&nbsp\;&nbsp\;&nbsp\; Jaap Achterberg
 \nBassbariton:&nbsp\;&nbsp\;&nbsp\; Ruben Drole\nKlavier:&nbsp\;&nbsp\;&nb
 sp\;&nbsp\;&nbsp\;&nbsp\;&nbsp\;&nbsp\;&nbsp\;&nbsp\;&nbsp\; Simone Keller
 \nKonzept:&nbsp\;&nbsp\;&nbsp\;&nbsp\;&nbsp\;&nbsp\;&nbsp\;&nbsp\; Daniel 
 Fueter\nLicht:&nbsp\;&nbsp\;&nbsp\;&nbsp\;&nbsp\;&nbsp\;&nbsp\;&nbsp\;&nbs
 p\;&nbsp\;&nbsp\;&nbsp\;&nbsp\;&nbsp\; Simone Kaufmann\n\nEine Koproduktio
 n vom Theater Rigiblick mit der Quartier-Kultur Kreis 6.\n\nEintrittspreis
 e (freie Platzwahl)\nFr. 33.– / 28.– / 15.–&nbsp\;&nbsp\;&nbsp\;&nbs
 p\; Reservation: 044 361 83 38 oder tickets@theater-rigiblick.ch
ATTACH;FMTTYPE=image/jpeg:https://www.qkk6.ch/wp-content/uploads/jaapet.pn
 g
CATEGORIES:Konzert,Lesung
LOCATION:Theater Rigiblick\, Germaniastrasse 99\, Zürich\, 8044\, Schweiz
GEO:47.388274;8.553456
X-APPLE-STRUCTURED-LOCATION;VALUE=URI;X-ADDRESS=Germaniastrasse 99\, Züric
 h\, 8044\, Schweiz;X-APPLE-RADIUS=100;X-TITLE=Theater Rigiblick:geo:47.388
 274,8.553456
END:VEVENT
BEGIN:VTIMEZONE
TZID:Europe/Zurich
X-LIC-LOCATION:Europe/Zurich
BEGIN:STANDARD
DTSTART:20191027T020000
TZOFFSETFROM:+0200
TZOFFSETTO:+0100
TZNAME:CET
END:STANDARD
END:VTIMEZONE
END:VCALENDAR