BEGIN:VCALENDAR
VERSION:2.0
PRODID:-//wp-events-plugin.com//7.2.3.1//EN
TZID:Europe/Zurich
X-WR-TIMEZONE:Europe/Zurich
BEGIN:VEVENT
UID:82@qkk6.ch
DTSTART;TZID=Europe/Zurich:20191117T170000
DTEND;TZID=Europe/Zurich:20191117T170000
DTSTAMP:20191112T083850Z
URL:https://www.qkk6.ch/events/2019/11/17/tontanz-die-leben-der-carmen-roe
 slischuer-zuerich/
SUMMARY:TonTanz: Die Leben der Carmen
DESCRIPTION:"Die 7 Leben der Carmen"\nTon und Tanz verschwimmen\, verweben\
 , verbinden sich und verschmelzen zu einem neuen Ganzen - folgen Sie mit u
 ns Carmen\, die beschliesst aus ihrer Operngeschichte Reissaus zu nehmen.\
 n\nBesetzung:\n\nAnna-Barbara Rösch - Querflöte\nRhea Paschen - Klarinet
 te\nYvonne Glur - Akkordeon\nSabine van Schie - Tanz\n\nEintritt frei\, KO
 LLEKTE für die Künstler/innen\n\n&nbsp\;\n\n&nbsp\;\n\n&nbsp\;\n\n&nbsp\
 ;
ATTACH;FMTTYPE=image/jpeg:https://www.qkk6.ch/wp-content/uploads/tontanz.p
 ng
CATEGORIES:Konzert
LOCATION:Röslischüür\, Röslistrasse 9\, Zürich\, 8006\, Schweiz
GEO:47.388508;8.541154
X-APPLE-STRUCTURED-LOCATION;VALUE=URI;X-ADDRESS=Röslistrasse 9\, Zürich\,
  8006\, Schweiz;X-APPLE-RADIUS=100;X-TITLE=Röslischüür:geo:47.388508,8.
 541154
END:VEVENT
BEGIN:VTIMEZONE
TZID:Europe/Zurich
X-LIC-LOCATION:Europe/Zurich
BEGIN:STANDARD
DTSTART:20191027T020000
TZOFFSETFROM:+0200
TZOFFSETTO:+0100
TZNAME:CET
END:STANDARD
END:VTIMEZONE
END:VCALENDAR