BEGIN:VCALENDAR
VERSION:2.0
PRODID:-//wp-events-plugin.com//7.2.3.1//EN
TZID:Europe/Zurich
X-WR-TIMEZONE:Europe/Zurich
BEGIN:VEVENT
UID:91@qkk6.ch
DTSTART;TZID=Europe/Zurich:20191028T200000
DTEND;TZID=Europe/Zurich:20191028T200000
DTSTAMP:20190806T070349Z
URL:https://www.qkk6.ch/events/2019/10/28/balladen-im-rigiblick-10/
SUMMARY:Balladen im Rigiblick
DESCRIPTION:Balladen: Die schöne Maid von Inverness\nKapitel II: Schottisc
 he Balladen\n\nKlaus Henner Russius hatte letztes Jahr aus gesundheitliche
 n Gründen absagen müssen. Nun ist er zurück! Wir freuen uns! Seine Lesu
 ng gilt dem grossen schottischen Nationaldichter Robert Burns.\nMusikalisc
 h umrahmen Bearbeitungen schottischer Volkslieder von Joseph Haydn und Lud
 wig van Beethoven für Gesang und Klaviertrio die Lesung. Yuka Tsuboi\, Fl
 urin Cuonz und Maki Wiederkehr begleiten die Rigiblick-Premiere von Raphae
 l Höhn.\n\nRezitation:&nbsp\;&nbsp\;&nbsp\;&nbsp\;&nbsp\; Klaus Henner Ru
 ssius\nTenor:&nbsp\;&nbsp\;&nbsp\;&nbsp\;&nbsp\;&nbsp\;&nbsp\;&nbsp\;&nbsp
 \;&nbsp\;&nbsp\;&nbsp\; Raphael Höhn\nVioline:&nbsp\;&nbsp\;&nbsp\;&nbsp\
 ;&nbsp\;&nbsp\;&nbsp\;&nbsp\;&nbsp\;&nbsp\;&nbsp\; Yuka Tsuboi\nVioloncell
 o:&nbsp\;&nbsp\;&nbsp\;&nbsp\; Flurin Cuonz\nKlavier:&nbsp\;&nbsp\;&nbsp\;
 &nbsp\;&nbsp\;&nbsp\;&nbsp\;&nbsp\;&nbsp\;&nbsp\;&nbsp\; Maki Wiederkehr\n
 Konzept:&nbsp\;&nbsp\;&nbsp\;&nbsp\;&nbsp\;&nbsp\;&nbsp\;&nbsp\; Daniel Fu
 eter\nLicht:&nbsp\;&nbsp\;&nbsp\;&nbsp\;&nbsp\;&nbsp\;&nbsp\;&nbsp\;&nbsp\
 ;&nbsp\;&nbsp\;&nbsp\;&nbsp\;&nbsp\; Simone Kaufmann\n\nEine Koproduktion 
 vom Theater Rigiblick mit der Quartier-Kultur Kreis 6.\n\nEintrittspreise 
 (freie Platzwahl)\n\nFr. 33.– / 28.– / 15.–&nbsp\; Reservation: 044 
 361 83 38 oder tickets@theater-rigiblick.ch
ATTACH;FMTTYPE=image/jpeg:https://www.qkk6.ch/wp-content/uploads/klaus-hen
 ner-russius.jpeg.jpg
CATEGORIES:Konzert,Lesung
LOCATION:Theater Rigiblick\, Germaniastrasse 99\, Zürich\, 8044\, Schweiz
GEO:47.388274;8.553456
X-APPLE-STRUCTURED-LOCATION;VALUE=URI;X-ADDRESS=Germaniastrasse 99\, Züric
 h\, 8044\, Schweiz;X-APPLE-RADIUS=100;X-TITLE=Theater Rigiblick:geo:47.388
 274,8.553456
END:VEVENT
BEGIN:VTIMEZONE
TZID:Europe/Zurich
X-LIC-LOCATION:Europe/Zurich
BEGIN:STANDARD
DTSTART:20191027T020000
TZOFFSETFROM:+0200
TZOFFSETTO:+0100
TZNAME:CET
END:STANDARD
END:VTIMEZONE
END:VCALENDAR