BEGIN:VCALENDAR
VERSION:2.0
PRODID:-//wp-events-plugin.com//7.2.3.1//EN
TZID:Europe/Zurich
X-WR-TIMEZONE:Europe/Zurich
BEGIN:VEVENT
UID:90@qkk6.ch
DTSTART;TZID=Europe/Zurich:20191027T110000
DTEND;TZID=Europe/Zurich:20191027T110000
DTSTAMP:20191024T123501Z
URL:https://www.qkk6.ch/events/2019/10/27/zuerich-liest-walter-baumgartner
 -roeslischuer-zuerich/
SUMMARY:Zürich liest: Walter Baumgartner
DESCRIPTION:Zürich liest: 2019 Das Buchfestival in Zürich\, Winterthur un
 d Region\nPAUSEZEICHE\nde Walter Baumgartner\n\nliest und verzellt Gschich
 te us em Radio Schtudio Züri\n\nJochen Baldes&nbsp\; Musig\n\nEintritt fr
 ei\, Kollekte. Beschränkte Platzzahl!\n\n&nbsp\;\n\nNach der Lesung sind 
 alle zu einem Apéro eingeladen\n\n&nbsp\;\n\n&nbsp\;
CATEGORIES:Lesung
LOCATION:Röslischüür\, Röslistrasse 9\, Zürich\, 8006\, Schweiz
GEO:47.388508;8.541154
X-APPLE-STRUCTURED-LOCATION;VALUE=URI;X-ADDRESS=Röslistrasse 9\, Zürich\,
  8006\, Schweiz;X-APPLE-RADIUS=100;X-TITLE=Röslischüür:geo:47.388508,8.
 541154
END:VEVENT
BEGIN:VTIMEZONE
TZID:Europe/Zurich
X-LIC-LOCATION:Europe/Zurich
BEGIN:STANDARD
DTSTART:20191027T020000
TZOFFSETFROM:+0200
TZOFFSETTO:+0100
TZNAME:CET
END:STANDARD
END:VTIMEZONE
END:VCALENDAR