BEGIN:VCALENDAR
VERSION:2.0
PRODID:-//wp-events-plugin.com//7.2.3.1//EN
TZID:Europe/Zurich
X-WR-TIMEZONE:Europe/Zurich
BEGIN:VEVENT
UID:89@qkk6.ch
DTSTART;TZID=Europe/Zurich:20191026T200000
DTEND;TZID=Europe/Zurich:20191026T200000
DTSTAMP:20191024T123440Z
URL:https://www.qkk6.ch/events/2019/10/26/zuerich-liest-frieda-buenzli-roe
 slischuer-zuerich/
SUMMARY:Abgesagt wegen Krankheit Zürich liest: Frieda Bünzli
DESCRIPTION:&nbsp\;\n\n&nbsp\;
CATEGORIES:Lesung
END:VEVENT
BEGIN:VTIMEZONE
TZID:Europe/Zurich
X-LIC-LOCATION:Europe/Zurich
BEGIN:DAYLIGHT
DTSTART:20190331T030000
TZOFFSETFROM:+0100
TZOFFSETTO:+0200
TZNAME:CEST
END:DAYLIGHT
END:VTIMEZONE
END:VCALENDAR