BEGIN:VCALENDAR
VERSION:2.0
PRODID:-//wp-events-plugin.com//7.2.3.1//EN
TZID:Europe/Zurich
X-WR-TIMEZONE:Europe/Zurich
BEGIN:VEVENT
UID:88@qkk6.ch
DTSTART;TZID=Europe/Zurich:20191025T200000
DTEND;TZID=Europe/Zurich:20191025T200000
DTSTAMP:20191024T123227Z
URL:https://www.qkk6.ch/events/2019/10/25/zuerich-liest-peter-k-wehrli-roe
 slischuer-zuerich/
SUMMARY:Zürich liest: Peter K. Wehrli
DESCRIPTION:Zürich liest: 2019 Das Buchfestival in Zürich\, Winterthur un
 d Region\nPeter K. Wehrli: Der Zürcher Katalog\n\n\nBilder aus Sprache: W
 eil Peter K. Wehrli auf der Eisenbahnfahrt im Orient-Express von Zürich n
 ach Beirut seinen Fotoapparat vergessen hatte\, entschied er sich\, alles 
 was er fotografieret hätte\, in Bildern aus Sprache festzuhalten. Dies wa
 r die Initialzündung für die Arbeit am “Katalog von Allem”. Damit ha
 tte Wehrli den Katalog zur literarischen Gattung erhoben. Diese intensivie
 rte Art der genauen Wahrnehmung liess ihn seither nicht mehr los: Nach der
  Rückkehr nach Zürich setzte er seine präzisen Wahrnehmungsübungen in 
 seiner Heimatstadt fort. Auf diese Weise zeigt er seinen Mitbewohnern ihre
  Stadt so\, als sähen sie alles zum ersten Mal: Die verborgenen Winkel un
 d das Ungewohnte werden so wichtiger als die Sehenswürdigkeiten und das t
 ouristische Abgewetzte. Der neue Blick auf Vertrautes macht das Wahrnehmen
  zum Abenteuer.\n\nEintritt frei\, Kollekte. Beschränkte Platzzahl!\n\nNa
 ch der Lesung sind alle zu einem Apéro eingeladen\n\n&nbsp\;\n\n&nbsp\;
ATTACH;FMTTYPE=image/jpeg:https://www.qkk6.ch/wp-content/uploads/pkwkl.png
CATEGORIES:Lesung
LOCATION:Röslischüür\, Röslistrasse 9\, Zürich\, 8006\, Schweiz
GEO:47.388508;8.541154
X-APPLE-STRUCTURED-LOCATION;VALUE=URI;X-ADDRESS=Röslistrasse 9\, Zürich\,
  8006\, Schweiz;X-APPLE-RADIUS=100;X-TITLE=Röslischüür:geo:47.388508,8.
 541154
END:VEVENT
BEGIN:VTIMEZONE
TZID:Europe/Zurich
X-LIC-LOCATION:Europe/Zurich
BEGIN:DAYLIGHT
DTSTART:20190331T030000
TZOFFSETFROM:+0100
TZOFFSETTO:+0200
TZNAME:CEST
END:DAYLIGHT
END:VTIMEZONE
END:VCALENDAR