BEGIN:VCALENDAR
VERSION:2.0
PRODID:-//wp-events-plugin.com//7.2.3.1//EN
TZID:Europe/Zurich
X-WR-TIMEZONE:Europe/Zurich
BEGIN:VEVENT
UID:87@qkk6.ch
DTSTART;TZID=Europe/Zurich:20191024T200000
DTEND;TZID=Europe/Zurich:20191024T200000
DTSTAMP:20191024T123212Z
URL:https://www.qkk6.ch/events/2019/10/24/urs-hardegger-germaine-stucki-ro
 eslischuer-zuerich/
SUMMARY:Zürich liest: Germaine Stucki / Urs Hardegger
DESCRIPTION:Zürich liest: 2019 Das Buchfestival in Zürich\, Winterthur un
 d Region\nGermaine Stucki und Urs Hardegger: Zwischen Qantana und Darmstad
 t\nIn ihrer literarischen Reportage erzählen Germaine Stucki und Urs Hard
 egger von der schrittweisen Annäherung an eine syrische Familie\, deren L
 eben geprägt ist vom Schrecken der al-Assad-Diktatur und des Krieges. Ein
 e berührende Geschichte von Hoffnung\, Verfolgung und Flucht.\nDie Lesung
  wird von orientalischen Musikklängen umrahmt.&nbsp\;\nGermaine Stucki st
 udierte an der Universität Zürich Literaturwissenschaft und Geschichte\,
  promovierte mit einer Arbeit zur Geschichte des Malik-Verlags und des Buc
 hmarkts der Weimarer Republik und unterrichtete bis 2017 an einem Zürcher
  Gymnasium. Sie lebt in Zürich und Berlin.\nUrs Hardegger studierte nach 
 längerer Tätigkeit als Primarlehrer Erziehungswissenschaft an der Univer
 sität Zürich und lehrte an verschiedenen Hochschulen. Er lebt als freier
  Autor in Zürich. Bisher von ihm erschienen: Die Geschichte der Luisa de 
 Agostini (2012)\, Es gilt die Tat (2017) und Spanische Erde (2019).\n\nEin
 tritt frei\, Kollekte. Beschränkte Platzzahl!\n\nNach der Lesung sind all
 e zu einem Apéro eingeladen\n\n&nbsp\;\n\n&nbsp\;
ATTACH;FMTTYPE=image/jpeg:https://www.qkk6.ch/wp-content/uploads/quantano.
 png
CATEGORIES:Lesung
LOCATION:Röslischüür\, Röslistrasse 9\, Zürich\, 8006\, Schweiz
GEO:47.388508;8.541154
X-APPLE-STRUCTURED-LOCATION;VALUE=URI;X-ADDRESS=Röslistrasse 9\, Zürich\,
  8006\, Schweiz;X-APPLE-RADIUS=100;X-TITLE=Röslischüür:geo:47.388508,8.
 541154
END:VEVENT
BEGIN:VTIMEZONE
TZID:Europe/Zurich
X-LIC-LOCATION:Europe/Zurich
BEGIN:DAYLIGHT
DTSTART:20190331T030000
TZOFFSETFROM:+0100
TZOFFSETTO:+0200
TZNAME:CEST
END:DAYLIGHT
END:VTIMEZONE
END:VCALENDAR