BEGIN:VCALENDAR
VERSION:2.0
PRODID:-//wp-events-plugin.com//7.2.3.1//EN
TZID:Europe/Zurich
X-WR-TIMEZONE:Europe/Zurich
BEGIN:VEVENT
UID:85@qkk6.ch
DTSTART;TZID=Europe/Zurich:20190923T200000
DTEND;TZID=Europe/Zurich:20190923T200000
DTSTAMP:20190705T090138Z
URL:https://www.qkk6.ch/events/2019/09/23/liederlich-3/
SUMMARY:liederlich 3
DESCRIPTION:\n\n\nliederlich 3\n\nHighlights der Schweizer Liedermacherszen
 e\n\nSie leben in Zürich und schreiben Mundartlieder. Seit Jahren touren 
 sie durch die Deutschschweiz und geben begeisternde Konzerte\, von Bümpli
 z bis Rorschach\, von Chur bis Basel. Mit ihren frechen\, gehaltvollen und
  hintersinnigen Texten sind sie die neue Generation der Schweizer Troubado
 ure.\n\nExklusiv für das Theater Rigiblick kommen erstmalig die vier in Z
 ürich wohnhaften Liedermacher zusammen und spielen an einem Abend auf ein
 er Bühne ihre schönsten Stücke: Berührend\, mitreissend und meist äus
 serst amüsant.\n\nAn diesem 3. liederlich-Abend hören und sehen Sie Res 
 Wepfer\, Kopf des legendären Pfannestil Chammer Sextdeet und Preisträger
  des Salzburger Stiers\;\n\nUta Köbernick\, scheinintegrierte Zürcherin\
 , Scharf- und Querdenkerin aus Ostberlin\, mit ihrer sprachlich virtuosen 
 Kunst ebenfalls Inhaberin des renommierten Salzburger Stiers\;\n\nReto Zel
 ler\, über den der Tagesanzeiger schrieb\, er besitze den Blick und die N
 ase für alltägliche Absonderlichkeiten sowie die treffsichere\, sprachm
 ächtige Bosheit\, diese noch ein wenig absonderlicher zu gestalten\, als 
 sie sind\;\n\nMarkus Schönholzer\, nicht nur wunderbarer Liedermacher son
 dern auch ein Komponist\, der unzählige Schweizer Musical- und Musiktheat
 erproduktionen mit seinen Liedern und Ideen veredelt und zum Erfolg gefüh
 rt hat.\n\nEintritt Fr. 39.--/34.--/25.--\n\nKein Vorverkauf! Reservation:
  044 361 83 38 oder tickets@theater-rigiblick.ch\n\n\n\n\nveranstaltet von
  Quartier-Kultur Kreis 6 https://www.qkk6.ch/\n\n\n\n\n\n\n\n\n\n&nbsp\;\n
 \n\n&nbsp\;\n\n&nbsp\;\n\n\n\n\n\n\n\n\n\n&nbsp\;
ATTACH;FMTTYPE=image/jpeg:https://www.qkk6.ch/wp-content/uploads/633A7533k
 l.jpg
CATEGORIES:Konzert
LOCATION:Theater Rigiblick\, Germaniastrasse 99\, Zürich\, 8044\, Schweiz
GEO:47.388274;8.553456
X-APPLE-STRUCTURED-LOCATION;VALUE=URI;X-ADDRESS=Germaniastrasse 99\, Züric
 h\, 8044\, Schweiz;X-APPLE-RADIUS=100;X-TITLE=Theater Rigiblick:geo:47.388
 274,8.553456
END:VEVENT
BEGIN:VTIMEZONE
TZID:Europe/Zurich
X-LIC-LOCATION:Europe/Zurich
BEGIN:DAYLIGHT
DTSTART:20190331T030000
TZOFFSETFROM:+0100
TZOFFSETTO:+0200
TZNAME:CEST
END:DAYLIGHT
END:VTIMEZONE
END:VCALENDAR