BEGIN:VCALENDAR
VERSION:2.0
PRODID:-//wp-events-plugin.com//7.2.3.1//EN
TZID:Europe/Zurich
X-WR-TIMEZONE:Europe/Zurich
BEGIN:VEVENT
UID:83@qkk6.ch
DTSTART;TZID=Europe/Zurich:20190916T200000
DTEND;TZID=Europe/Zurich:20190916T200000
DTSTAMP:20190613T145925Z
URL:https://www.qkk6.ch/events/2019/09/16/balladen-im-rigiblick-9/
SUMMARY:Balladen im Rigiblick
DESCRIPTION:Balladen: Pilgerjahre\nAuftakt zum Kapitel III der Balladen-Rei
 he\n\nBalladen von\nConrad Ferdinand Meyer (1825 - 1898)\nFranz Liszt (181
 1 - 1886)\n\nFranz Liszt ist Composer in Residence dieser Saison: Im erste
 n Konzert trifft Liszt auf Conrad Ferdinand Meyer.\n\nDer prominente Schwe
 izer Pianist Oliver Schnyder umrahmt mit Klavierstücken aus Liszts Schwei
 zer Reisetagebuch die Lesung von Charlotte Schwab\, die als Schauspielerin
  mehrfach auf unserer Bühne brillierte.\n\nRezitation:&nbsp\;&nbsp\;&nbsp
 \;&nbsp\;&nbsp\;&nbsp\; Charlotte Schwab\nKlavier:&nbsp\;&nbsp\;&nbsp\;&nb
 sp\;&nbsp\;&nbsp\;&nbsp\;&nbsp\;&nbsp\;&nbsp\;&nbsp\;&nbsp\; Oliver Schnyd
 er\nKonzept:&nbsp\;&nbsp\;&nbsp\;&nbsp\;&nbsp\;&nbsp\;&nbsp\; &nbsp\; Dani
 el Fueter\n\nEine Koproduktion von Quartier-Kultur Kreis 6 und Theater Rig
 iblick\n\n\nEintritt&nbsp\;Fr. 33.– / 28.– / 15.– Reservation: 044 3
 61 83 38 oder tickets@theater-rigiblick.ch\n\n
ATTACH;FMTTYPE=image/jpeg:https://www.qkk6.ch/wp-content/uploads/scharlott
 .jpg
CATEGORIES:Konzert,Lesung
LOCATION:Theater Rigiblick\, Germaniastrasse 99\, Zürich\, 8044\, Schweiz
GEO:47.388274;8.553456
X-APPLE-STRUCTURED-LOCATION;VALUE=URI;X-ADDRESS=Germaniastrasse 99\, Züric
 h\, 8044\, Schweiz;X-APPLE-RADIUS=100;X-TITLE=Theater Rigiblick:geo:47.388
 274,8.553456
END:VEVENT
BEGIN:VTIMEZONE
TZID:Europe/Zurich
X-LIC-LOCATION:Europe/Zurich
BEGIN:DAYLIGHT
DTSTART:20190331T030000
TZOFFSETFROM:+0100
TZOFFSETTO:+0200
TZNAME:CEST
END:DAYLIGHT
END:VTIMEZONE
END:VCALENDAR