BEGIN:VCALENDAR
VERSION:2.0
PRODID:-//wp-events-plugin.com//7.2.3.1//EN
TZID:Europe/Zurich
X-WR-TIMEZONE:Europe/Zurich
BEGIN:VEVENT
UID:81@qkk6.ch
DTSTART;TZID=Europe/Zurich:20190626T200000
DTEND;TZID=Europe/Zurich:20190626T200000
DTSTAMP:20190617T083511Z
URL:https://www.qkk6.ch/events/2019/06/26/aus-der-reihe-literaturzeitschri
 ften-stellen-sich-vor-roeslischuer-zuerich/
SUMMARY:Aus der Reihe: Literaturzeitschriften stellen sich vor
DESCRIPTION:Literaturzeitschriften stellen sich vor\n2. Mütze\nDie „Müt
 ze“ ist eine literarische Zeitschrift\, die für alle Genres der Literat
 ur und für jede ihrer Epochen offensteht\, aber nicht für jede Literatur
 . Untereinander schaffen die Texte der „Mütze“ ein Feld der Verbindun
 gen\, Fortsetzungen und Erweiterungen. Kontinuität ist der „Mütze“ w
 ichtig\, auch im Sinne einer Überlieferung\, im Sinne von moderner Tradit
 ion. Deshalb wiederholen sich in der „Mütze“ gewisse Autoren\, wie z.
 B. Eleonore Frey\, Jean Daive\, Guy Davenport\, Robert Kelly\, Birgit Kemp
 ker\, Elke Erb oder H.D.\, weil sie ihr ebenso wichtig sind wie die Entdec
 kung neuer und jüngerer Autorinnen und Autoren wie Simone Kornappel\, Han
 nes Bahjor\, Nils Röller\, Dagmara Kraus\, Bertram Reinecke\, Christian F
 ilips und viele andere mehr.\n\nMitwirkende: Urs Engeler\, Elisabeth Wande
 ler-Deck\, Nils Röller\n\nEintritt frei\, Kollekte\n\nIm Anschluss sind a
 lle zu einem Apéro eingeladen\n\n&nbsp\;\n\n&nbsp\;
ATTACH;FMTTYPE=image/jpeg:https://www.qkk6.ch/wp-content/uploads/mütze23_
 cover.jpg
CATEGORIES:Lesung
LOCATION:Röslischüür\, Röslistrasse 9\, Zürich\, 8006\, Schweiz
GEO:47.388508;8.541154
X-APPLE-STRUCTURED-LOCATION;VALUE=URI;X-ADDRESS=Röslistrasse 9\, Zürich\,
  8006\, Schweiz;X-APPLE-RADIUS=100;X-TITLE=Röslischüür:geo:47.388508,8.
 541154
END:VEVENT
BEGIN:VTIMEZONE
TZID:Europe/Zurich
X-LIC-LOCATION:Europe/Zurich
BEGIN:DAYLIGHT
DTSTART:20190331T030000
TZOFFSETFROM:+0100
TZOFFSETTO:+0200
TZNAME:CEST
END:DAYLIGHT
END:VTIMEZONE
END:VCALENDAR