BEGIN:VCALENDAR
VERSION:2.0
PRODID:-//wp-events-plugin.com//7.2.3.1//EN
TZID:Europe/Zurich
X-WR-TIMEZONE:Europe/Zurich
BEGIN:VEVENT
UID:79@qkk6.ch
DTSTART;TZID=Europe/Zurich:20190617T200000
DTEND;TZID=Europe/Zurich:20190617T200000
DTSTAMP:20190329T105406Z
URL:https://www.qkk6.ch/events/2019/06/17/balladen-im-rigiblick-8/
SUMMARY:Balladen im Rigiblick
DESCRIPTION:François Villon\nAndré Jung liest aus "Das grosse Testament"\
 n\nDer Schauspieler André Jung und der Musiker Anders Miolin beschliessen
  die zweite Balladen-Reihe.\n\nAndré Jung liest aus François Villons "Da
 s grosse Testament" und zugehörige Balladen.\n\nAnders Miolin spielt auf 
 der neuentwickelten 12-saitigen Gitarre Dodeka Musik von Pierre Attaignat\
 , Robert Ballard\, Joan Ambrosio Dalza\, John Dowland\, Johann Sebastian B
 ach u.a.\n\nLesung:&nbsp\;&nbsp\;&nbsp\;&nbsp\;&nbsp\;&nbsp\;&nbsp\;&nbsp\
 ;&nbsp\;&nbsp\;&nbsp\;&nbsp\;&nbsp\;&nbsp\;&nbsp\;&nbsp\;&nbsp\;&nbsp\;&nb
 sp\;&nbsp\; André Jung\n12-saitige Gitarre:&nbsp\;&nbsp\;&nbsp\;&nbsp\; A
 nders Miolin\nKonzept:&nbsp\;&nbsp\;&nbsp\;&nbsp\;&nbsp\;&nbsp\;&nbsp\;&nb
 sp\;&nbsp\;&nbsp\;&nbsp\;&nbsp\;&nbsp\;&nbsp\;&nbsp\;&nbsp\;&nbsp\;&nbsp\;
  Daniel Fueter\n\nEine Koproduktion von Quartier-Kultur Kreis 6 und Theate
 r Rigiblick\n\n\nEintritt Fr. 28.--/23.--/15.-- &nbsp\; Reservation: 044 3
 61 83 38 oder tickets@theater-rigiblick.ch\n\n
ATTACH;FMTTYPE=image/jpeg:https://www.qkk6.ch/wp-content/uploads/andre.jpg
CATEGORIES:Konzert,Lesung
LOCATION:Theater Rigiblick\, Germaniastrasse 99\, Zürich\, 8044\, Schweiz
GEO:47.388274;8.553456
X-APPLE-STRUCTURED-LOCATION;VALUE=URI;X-ADDRESS=Germaniastrasse 99\, Züric
 h\, 8044\, Schweiz;X-APPLE-RADIUS=100;X-TITLE=Theater Rigiblick:geo:47.388
 274,8.553456
END:VEVENT
BEGIN:VTIMEZONE
TZID:Europe/Zurich
X-LIC-LOCATION:Europe/Zurich
BEGIN:DAYLIGHT
DTSTART:20190331T030000
TZOFFSETFROM:+0100
TZOFFSETTO:+0200
TZNAME:CEST
END:DAYLIGHT
END:VTIMEZONE
END:VCALENDAR