BEGIN:VCALENDAR
VERSION:2.0
PRODID:-//wp-events-plugin.com//7.2.3.1//EN
TZID:Europe/Zurich
X-WR-TIMEZONE:Europe/Zurich
BEGIN:VEVENT
UID:80@qkk6.ch
DTSTART;TZID=Europe/Zurich:20190612T200000
DTEND;TZID=Europe/Zurich:20190612T200000
DTSTAMP:20190408T135702Z
URL:https://www.qkk6.ch/events/2019/06/12/in-allem-ist-alles-roeslischuer-
 zuerich/
SUMMARY:...In Allem ist Alles...
DESCRIPTION:„..IN ALLEM IST ALLES!“\nAuf den Spuren von Kurt Guggenheim
  durch Zürich.\nEine Dokumentation von Peter K. Wehrli\n\nDie Welt heisst
  Zürich: In einer überbordenden Fülle von Figuren und Ereignissen hat K
 urt Guggenheim die Welt nach Zürich geholt\; er hat Zürich zur Welt gema
 cht. Dafür dankte ihm die Stadt Zürich 1955 mit der Verleihung des Zürc
 her Literaturpreises. In seinem Hauptwerk\, dem vierbändigen Romanzyklus 
 „Alles in Allem" verfolgt er auf faszinierende Weise die Entwicklung der
  Stadt Zürich durch die erste Hälfte des 20. Jahrhunderts. Der Film „I
 n Allem ist Alles“ ist ein neugieriger Gang durch die Stadt auf Guggenhe
 ims Spuren. In einem charaktervollen Figurenarsenal belegt Guggenheim die 
 Gültigkeit jener These\, die ihn zum Titel dieses Romanwerkes angeregt ha
 t: „In Jedem ist Jeder und Jedes\, in Allem ist Alles".\n\nEintritt frei
 \, KOLLEKTE\n\n&nbsp\;
ATTACH;FMTTYPE=image/jpeg:https://www.qkk6.ch/wp-content/uploads/pkw-e1656
 667358546.jpg
CATEGORIES:Film
LOCATION:Röslischüür\, Röslistrasse 9\, Zürich\, 8006\, Schweiz
GEO:47.388508;8.541154
X-APPLE-STRUCTURED-LOCATION;VALUE=URI;X-ADDRESS=Röslistrasse 9\, Zürich\,
  8006\, Schweiz;X-APPLE-RADIUS=100;X-TITLE=Röslischüür:geo:47.388508,8.
 541154
END:VEVENT
BEGIN:VTIMEZONE
TZID:Europe/Zurich
X-LIC-LOCATION:Europe/Zurich
BEGIN:DAYLIGHT
DTSTART:20190331T030000
TZOFFSETFROM:+0100
TZOFFSETTO:+0200
TZNAME:CEST
END:DAYLIGHT
END:VTIMEZONE
END:VCALENDAR