BEGIN:VCALENDAR
VERSION:2.0
PRODID:-//wp-events-plugin.com//7.2.3.1//EN
TZID:Europe/Zurich
X-WR-TIMEZONE:Europe/Zurich
BEGIN:VEVENT
UID:77@qkk6.ch
DTSTART;TZID=Europe/Zurich:20190603T200000
DTEND;TZID=Europe/Zurich:20190603T200000
DTSTAMP:20190519T081456Z
URL:https://www.qkk6.ch/events/2019/06/03/hingerhang-aufs-richtige-pferd-g
 esetzt/
SUMMARY:Hingerhang – aufs richtige Pferd gesetzt
DESCRIPTION:Hingerhang – Aufs richtige Pferd gesetzt\n"Wie aut dass me ei
 getlech syg\, hets de öppe gheisse\, u di richtegi Antwort wäri gsi\, ge
 nau das syg äbe der Punkt. Benäh söui me sech wie erwachse\, aber wes d
 e um ds Dörfe göngi\, syg me de blitzartig wider Ching."\n\nIn ihrem hin
 - und mitreissenden Mundartroman lässt Stef Stauffer die ungewöhnliche F
 reundschaft zwischen der frechen Protagonistin und Bützu\, dem Stallbursc
 hen im Reitstall\, entstehen. Weitab von jeder Pferderomantik erzählt die
  Autorin in ungebremst pointiertem Redeschwall von den Schwierigkeiten\, a
 ls Heranwachsende die Regeln der Erwachsenenwelt zu umgehen.&nbsp\; Der ab
 geklärte Pädagoge und Fachmann\, in der Person von Joschi Kühne\, weiss
  manches anschaulich zu relativieren oder zumindest gewisse Zusammenhänge
  aufzuzeigen und somit die Pubertät zu erklären. Michel Poffet am Bass s
 etzt die musikalischen Akzente und sorgt für Momente der Entschleunigung&
 nbsp\; zwischen den temporeichen und gehaltvollen Textpassagen.\nEin amüs
 anter Abend für alle\, die auch einmal aufmüpfig waren und dies noch ein
 mal so richtig durchleben und auskosten wollen.\n\n"Hingerhang isch es Bue
 ch für ds Härz u für e Gring aber vor auem ou für ds Zwärchfäu. Bi b
 im Läse meh weder einisch schier verreckt. D Stoufferstef\, die schrybt s
 o\, wi mir hie schnure u verzeut Gschichte\, wo me hie haut so erläbt. Hu
 ereguet im Fau." Büne Huber\n\n\nStef Stauffer\, geb. 1965 in Bern\, lebt
  heute im Onsernonetal und in Zürich\, arbeitet bei der Tessiner Zeitung\
 , als freie Journalistin und als Schriftstellerin. "Hingerhang" ist ihr f
 ünfter Roman\, ihr erster auf Berndeutsch\, den sie im Herbst auch am Mun
 dartfestival in Arosa vorstellen wird.\n\nJoschi Kühne\, geb. 1953 in Bas
 el\, lebt in Zürich. Als langjähriger Moderator und Mitarbeiter bei Radi
 o SRF stellt er seine bekannte und wohlklingende Stimme und sein immenses 
 Fachwissen auch nach der Pensionierung immer noch gerne in den Dienst der 
 Zuhörenden.\n\nMichel Poffet\, geb. 1956 in Bern\, ist als Bassist mit de
 n unterschiedlichsten Formationen schon vielerorts auf der Welt auf der B
 ühne gestanden. Nun tritt er erstmals als Solomusiker auf und verleiht mi
 t dem Kontrabass dieser Lesung die passende Tiefe.&nbsp\;\n\nEintrittsprei
 se (freie Platzwahl)\nFr. 30.--/ 25.--\n\nKein Vorverkauf! Reservationen e
 mpfohlen tickets@theater-rigiblick.ch oder 044 361 80 51
ATTACH;FMTTYPE=image/jpeg:https://www.qkk6.ch/wp-content/uploads/stef.png
CATEGORIES:Lesung
LOCATION:Theater Rigiblick\, Germaniastrasse 99\, Zürich\, 8044\, Schweiz
GEO:47.388274;8.553456
X-APPLE-STRUCTURED-LOCATION;VALUE=URI;X-ADDRESS=Germaniastrasse 99\, Züric
 h\, 8044\, Schweiz;X-APPLE-RADIUS=100;X-TITLE=Theater Rigiblick:geo:47.388
 274,8.553456
END:VEVENT
BEGIN:VTIMEZONE
TZID:Europe/Zurich
X-LIC-LOCATION:Europe/Zurich
BEGIN:DAYLIGHT
DTSTART:20190331T030000
TZOFFSETFROM:+0100
TZOFFSETTO:+0200
TZNAME:CEST
END:DAYLIGHT
END:VTIMEZONE
END:VCALENDAR