BEGIN:VCALENDAR
VERSION:2.0
PRODID:-//wp-events-plugin.com//7.2.3.1//EN
TZID:Europe/Zurich
X-WR-TIMEZONE:Europe/Zurich
BEGIN:VEVENT
UID:73@qkk6.ch
DTSTART;TZID=Europe/Zurich:20190527T200000
DTEND;TZID=Europe/Zurich:20190527T200000
DTSTAMP:20190511T090904Z
URL:https://www.qkk6.ch/events/2019/05/27/liederlich-2/
SUMMARY:liederlich
DESCRIPTION:\n\n\n\nliederlich\n\n\nHighlights der Schweizer Liedermachersz
 ene\n\nSie leben in Zürich und schreiben Mundartlieder. Seit Jahren toure
 n sie durch die Deutschschweiz und geben begeisternde Konzerte\, von Bümp
 liz bis Rorschach\, von Chur bis Basel. Mit ihren frechen\, gehaltvollen u
 nd hintersinnigen Texten sind sie die neue Generation der Schweizer Trouba
 doure.\n\nExklusiv für das Theater Rigiblick kommen erstmalig die vier in
  Zürich wohnhaften Liedermacher zusammen und spielen an einem Abend auf e
 iner Bühne ihre schönsten Stücke: Berührend\, mitreissend und meist ä
 usserst amüsant.\n\nAn diesem liederlich-Abend hören und sehen Sie Res W
 epfer\, Kopf des legendären Pfannestil Chammer Sextdeet und Preisträger 
 des Salzburger Stiers\;\n\nUta Köbernick\, scheinintegrierte Zürcherin\,
  Scharf- und Querdenkerin aus Ostberlin\, mit ihrer sprachlich virtuosen K
 unst ebenfalls Inhaberin des renommierten Salzburger Stiers\;\n\nReto Zell
 er\, über den der Tagesanzeiger schrieb\, er besitze den Blick und die Na
 se für alltägliche Absonderlichkeiten sowie die treffsichere\, sprachmä
 chtige Bosheit\, diese noch ein wenig absonderlicher zu gestalten\, als si
 e sind\;\n\nMarkus Schönholzer\, nicht nur wunderbarer Liedermacher sonde
 rn auch ein Komponist\, der unzählige Schweizer Musical- und Musiktheater
 produktionen mit seinen Liedern und Ideen veredelt und zum Erfolg geführt
  hat.\n\nEintritt Fr. 39.--/34.--/25.--\n\nKein Vorverkauf!&nbsp\; Reserva
 tion: 044 361 80 51 oder tickets@theater-rigiblick.ch\n\n&nbsp\;\n\n\n\n\n
 &nbsp\;\n\n\n\n\n\n\n\n\n\n&nbsp\;\n\n\n&nbsp\;\n\n&nbsp\;\n\n\n\n\n\n\n\n
 \n\n&nbsp\;
ATTACH;FMTTYPE=image/jpeg:https://www.qkk6.ch/wp-content/uploads/633A7533k
 l.jpg
CATEGORIES:Konzert,Lesung
LOCATION:Theater Rigiblick\, Germaniastrasse 99\, Zürich\, 8044\, Schweiz
GEO:47.388274;8.553456
X-APPLE-STRUCTURED-LOCATION;VALUE=URI;X-ADDRESS=Germaniastrasse 99\, Züric
 h\, 8044\, Schweiz;X-APPLE-RADIUS=100;X-TITLE=Theater Rigiblick:geo:47.388
 274,8.553456
END:VEVENT
BEGIN:VTIMEZONE
TZID:Europe/Zurich
X-LIC-LOCATION:Europe/Zurich
BEGIN:DAYLIGHT
DTSTART:20190331T030000
TZOFFSETFROM:+0100
TZOFFSETTO:+0200
TZNAME:CEST
END:DAYLIGHT
END:VTIMEZONE
END:VCALENDAR