BEGIN:VCALENDAR
VERSION:2.0
PRODID:-//wp-events-plugin.com//7.2.3.1//EN
TZID:Europe/Zurich
X-WR-TIMEZONE:Europe/Zurich
BEGIN:VEVENT
UID:74@qkk6.ch
DTSTART;TZID=Europe/Zurich:20190513T200000
DTEND;TZID=Europe/Zurich:20190513T200000
DTSTAMP:20190301T234222Z
URL:https://www.qkk6.ch/events/2019/05/13/balladen-chorballaden/
SUMMARY:Balladen: Chorballaden
DESCRIPTION:Chorballaden\nRheinberger / Schumann / Fauré u.v.a.\nKapitel I
 X\nDie Chorballaden bringen uns Balladen des Liechtensteinischen Komponist
 en Josef Gabriel Rheinberger\, des Deutschen Robert Schumann und des Franz
 osen Gabriel Fauré nah\, gesungen auf Texte der Lyriker Robert Reinich\, 
 Emanuel Geibel\, Josef Wenzig und Victor Hugo.\nGraziella Rossi und Helmut
  Vogel lesen Texte von Ingeborg Bachmann.\nKonzept\nDaniel Fueter\n\nMit\n
 Zürcher Singkreis unter der Leitung von Tobias von Arb\nGraziella Rossi\n
 Helmut Vogel\n\nAm Klavier\nReto Reichenbach\nEine Koproduktion von Quarti
 er-Kultur Kreis 6 und Theater Rigiblick\nEintrittspreise (freie Platzwahl)
 \nFr. 28.--/ 23.--/ 15.--\n\nReservationen&nbsp\; tickets@theater-rigiblic
 k.ch oder 044 361 80 51
ATTACH;FMTTYPE=image/jpeg:https://www.qkk6.ch/wp-content/uploads/grazi2.jp
 g
CATEGORIES:Konzert,Lesung
LOCATION:Theater Rigiblick\, Germaniastrasse 99\, Zürich\, 8044\, Schweiz
GEO:47.388274;8.553456
X-APPLE-STRUCTURED-LOCATION;VALUE=URI;X-ADDRESS=Germaniastrasse 99\, Züric
 h\, 8044\, Schweiz;X-APPLE-RADIUS=100;X-TITLE=Theater Rigiblick:geo:47.388
 274,8.553456
END:VEVENT
BEGIN:VTIMEZONE
TZID:Europe/Zurich
X-LIC-LOCATION:Europe/Zurich
BEGIN:DAYLIGHT
DTSTART:20190331T030000
TZOFFSETFROM:+0100
TZOFFSETTO:+0200
TZNAME:CEST
END:DAYLIGHT
END:VTIMEZONE
END:VCALENDAR