BEGIN:VCALENDAR
VERSION:2.0
PRODID:-//wp-events-plugin.com//7.2.3.1//EN
TZID:Europe/Zurich
X-WR-TIMEZONE:Europe/Zurich
BEGIN:VEVENT
UID:71@qkk6.ch
DTSTART;TZID=Europe/Zurich:20190415T200000
DTEND;TZID=Europe/Zurich:20190415T200000
DTSTAMP:20190215T145012Z
URL:https://www.qkk6.ch/events/2019/04/15/balladen-im-rigiblick-7/
SUMMARY:Balladen im Rigiblick
DESCRIPTION:Der Untergang der Titanic\nKapitel VIII: Hans Magnus Enzensberg
 er\n\nMusik französischer Komponisten für Klavier zu vier Händen.\n\nIn
  Hans Magnus Enzensbergers "Der Untergang der Titanic" (Eine Komödie) wir
 d in dreiunddreissig Gesängen die Katastrophe dargestellt\, mit allen Ein
 zelheiten\, mit der Mannschaft und den Passagieren\, den Toten und den Üb
 erlebenden\, der gesellschaftlichen Hierarchie des Schiffs\, seinen Salong
 emälden\, dem First-Class-Dinner\, den Zeitangaben\, Temperaturen und Ger
 äuschen.\n\nRezitation: Hans Kremer\; Mona Petri\; Gian Rupf\nZeichnungen
 : Isabelle Krötsch\nKlavier: Vilija Poskute\; Tomas Daukantas\nKonzept: D
 aniel Fueter\n\nEine Koproduktion von Quartier-Kultur Kreis 6 und Theater 
 Rigiblick\n\n\nEintritt Fr. 28.--/23.--/15.-- &nbsp\; Reservation: 044 361
  83 38 oder tickets@theater-rigiblick.ch\n\n
CATEGORIES:Konzert,Lesung
LOCATION:Theater Rigiblick\, Germaniastrasse 99\, Zürich\, 8044\, Schweiz
GEO:47.388274;8.553456
X-APPLE-STRUCTURED-LOCATION;VALUE=URI;X-ADDRESS=Germaniastrasse 99\, Züric
 h\, 8044\, Schweiz;X-APPLE-RADIUS=100;X-TITLE=Theater Rigiblick:geo:47.388
 274,8.553456
END:VEVENT
BEGIN:VTIMEZONE
TZID:Europe/Zurich
X-LIC-LOCATION:Europe/Zurich
BEGIN:DAYLIGHT
DTSTART:20190331T030000
TZOFFSETFROM:+0100
TZOFFSETTO:+0200
TZNAME:CEST
END:DAYLIGHT
END:VTIMEZONE
END:VCALENDAR