BEGIN:VCALENDAR
VERSION:2.0
PRODID:-//wp-events-plugin.com//7.2.3.1//EN
TZID:Europe/Zurich
X-WR-TIMEZONE:Europe/Zurich
BEGIN:VEVENT
UID:70@qkk6.ch
DTSTART;TZID=Europe/Zurich:20190408T200000
DTEND;TZID=Europe/Zurich:20190408T200000
DTSTAMP:20190307T152901Z
URL:https://www.qkk6.ch/events/2019/04/08/endwend-wendend/
SUMMARY:EndWend-WendEnd
DESCRIPTION:\n\nEndWend-WendEnd\n\n\n\n\nTotentanz unserer Zeit\n\n\nEs bru
 mmt und zwitschert\, singt und flüstert mit eindringlicher Musik und Spra
 che: Das KONTRATrio vereint mit dem TrioZ und Akkordeon gibt den Soundtrac
 k für die Schauspielerin Irina Schönen.\nSie lädt mit dem Text EndWend-
 Wend-End das musikalische Drama explosiv auf.\nEin Erlebnis der besonderen
  Art…spannungsgeladen\, fesselnd\, aufklärerisch\, aktuell\, visionär
 …\n\nKomposition: Valentin Vecellio 2019\nText: Manfred Züfle 2006\n\nt
 rioZ \nUrsula Maehr Subbassblockflöte/Blockflöten\nEva Debrunner&nbsp\; 
 Blockflöten\nBarbara Zimmerli&nbsp\; Blockflöten\n\nKONTRA -Trio\nMadele
 ine Bischof Kontrabassquerflöte\nThomas K.J. Mejer Kontrabasssaxophon\nLe
 o Bachmann Tuba\nMargrit Schenker Akkordeon\nIrina Schönen Stimme\n\nDas 
 Stück EndWend-WendEnd ist Musik unserer Zeit. Zeit die sich dreht und wen
 det: Vergangenheit und Tod - Gegenwart und vielleicht Zukunft. Diese Musik
  und der Text von Manfred Züfle aus Apokalypse und später will Menschen 
 zum Nachdenken und zu einer Veränderung führen. Der philosophisch-poetis
 che Inhalt des Textes vermittelt dem Publikum Gedanken zu Umwelt\, Natur\,
  Duette und auch ein paar ganz gewöhnliche Soli. Das Ganze gut umrühren 
 und heiss servieren.\n\n\n\n\n\n\nEintritt: 35.-- / 30.--&nbsp\; Reservati
 on: 044 361 83 38 oder tickets@theater-rigiblick.ch\n\n\n\n
ATTACH;FMTTYPE=image/jpeg:https://www.qkk6.ch/wp-content/uploads/tr.jpg
CATEGORIES:Konzert,Lesung
LOCATION:Theater Rigiblick\, Germaniastrasse 99\, Zürich\, 8044\, Schweiz
GEO:47.388274;8.553456
X-APPLE-STRUCTURED-LOCATION;VALUE=URI;X-ADDRESS=Germaniastrasse 99\, Züric
 h\, 8044\, Schweiz;X-APPLE-RADIUS=100;X-TITLE=Theater Rigiblick:geo:47.388
 274,8.553456
END:VEVENT
BEGIN:VTIMEZONE
TZID:Europe/Zurich
X-LIC-LOCATION:Europe/Zurich
BEGIN:DAYLIGHT
DTSTART:20190331T030000
TZOFFSETFROM:+0100
TZOFFSETTO:+0200
TZNAME:CEST
END:DAYLIGHT
END:VTIMEZONE
END:VCALENDAR