BEGIN:VCALENDAR
VERSION:2.0
PRODID:-//wp-events-plugin.com//7.2.3.1//EN
TZID:Europe/Zurich
X-WR-TIMEZONE:Europe/Zurich
BEGIN:VEVENT
UID:72@qkk6.ch
DTSTART;TZID=Europe/Zurich:20190325T200000
DTEND;TZID=Europe/Zurich:20190325T200000
DTSTAMP:20190218T162143Z
URL:https://www.qkk6.ch/events/2019/03/25/new-orleans-eine-art-hoerspiel-f
 uer-die-buehne/
SUMMARY:New Orleans - eine Art Hörspiel für die Bühne
DESCRIPTION:\n\nNew Orleans\nvon Jens Nielsen - Gewinner des Schweizer Lite
 raturpreises 2017\n\n\n\n\n\n\nDen Blues im Koffer. Die Reise zum Vergesse
 n.\n\nDer Mann und der Musiker erzählen die Geschichte eines Mannes\, des
 sen Hauptbeschäftigung das Unterwegssein geworden ist.\nDer Mann reist mi
 t dem Zufall\, den er mit einer Münze generiert. Dieser führt ihn von ei
 nem Ort mit Namen Kap der Angst nach New Orleans.\nUnd er lässt den Zufal
 l entscheiden\, wo er sich dort aufhalten und was er tun wird.\nDer eine T
 ag und Abend\, von dem uns hauptsächlich erzählt wird\, ist der 39.Gebur
 tstag seiner verstorbenen Verlobten. Wir begleiten den Mann auf seiner Fah
 rt nach New Orleans\, seiner Suche nach einer Unterkunft\, der Suche nach 
 einem Geschenk für seine Verlobte und beim Versuch\, wieder einmal mit ei
 ner Frau etwas zu haben. Alle drei Vorhaben scheitern. Das Hotel\, in dem 
 er landet\, ist vielleicht das surrealste\, schäbigste der Stadt. Ein Ges
 chenk kann er zwar finden\, aber wem soll er es geben. Und die Begegnung m
 it einer Frau missrät\, bevor sie recht begonnen hat.\n\nDass der Mann tr
 otz allem eine seltsam gute Laune beibehält\, macht den Charme der Geschi
 chte aus. Hier wird zwar von Abgründen erzählt\,\naber mit Heiterkeit.\n
 \nNew Orleans – eine Art Hörspiel für die Bühne.\n\nDer Mann: Peter H
 ottinger\nDer Musiker: Christian Käufeler\nDie Regie: Martha Zürcher\n\n
 Pressefoto Michael Hug\n\n\nEintritt:&nbsp\;28.--/ 23.-- / 15.-- Reservati
 on: 044 361 83 38 oder tickets@theater-rigiblick.ch\n\n
ATTACH;FMTTYPE=image/jpeg:https://www.qkk6.ch/wp-content/uploads/NO_Presse
 foto_von_Michael_Hug-Kopie.jpeg
CATEGORIES:Konzert,Lesung
LOCATION:Theater Rigiblick\, Germaniastrasse 99\, Zürich\, 8044\, Schweiz
GEO:47.388274;8.553456
X-APPLE-STRUCTURED-LOCATION;VALUE=URI;X-ADDRESS=Germaniastrasse 99\, Züric
 h\, 8044\, Schweiz;X-APPLE-RADIUS=100;X-TITLE=Theater Rigiblick:geo:47.388
 274,8.553456
END:VEVENT
BEGIN:VTIMEZONE
TZID:Europe/Zurich
X-LIC-LOCATION:Europe/Zurich
BEGIN:STANDARD
DTSTART:20181028T020000
TZOFFSETFROM:+0200
TZOFFSETTO:+0100
TZNAME:CET
END:STANDARD
END:VTIMEZONE
END:VCALENDAR