BEGIN:VCALENDAR
VERSION:2.0
PRODID:-//wp-events-plugin.com//7.2.3.1//EN
TZID:Europe/Zurich
X-WR-TIMEZONE:Europe/Zurich
BEGIN:VEVENT
UID:68@qkk6.ch
DTSTART;TZID=Europe/Zurich:20190322T200000
DTEND;TZID=Europe/Zurich:20190322T200000
DTSTAMP:20190306T092903Z
URL:https://www.qkk6.ch/events/2019/03/22/stueck-fuer-stueck-ins-glueck-ro
 eslischuer-zuerich/
SUMMARY:Stück für Stück ins Glück
DESCRIPTION:Stück für Stück ins Glück\n\n\n\n\nAnnette Labusch\, Sänge
 rin\nClaire Genewein\, Flötistin\nStefi Spinas\, Pianistin\n\nWären Sie 
 auch schon immer einmal gern eine Glücksfee gewesen? (Hier existiert leid
 er nur die weibliche Form\, liebe Männer – tut uns leid\, aber Ihr seid
  ebenfalls ganz herzlich willkommen!)&nbsp\; An diesem Abend haben Sie die
  Möglichkeit dazu\, wenn Sie möchten\, denn für dieses Konzert entschei
 den Sie\, liebes\, verehrtes Publikum\, per Zufallslos den Ablauf des Prog
 ramms und wir werden den vorbestimmten\, geheimen Sinn darin zweifelsfrei 
 erkennen. denn: nichts ist Zufall im Leben\, oder doch?\n\nMusik: Neues un
 d Altbekanntes aus dem vielfältigen Repertoire des Ensemble Miroir\, sei 
 es nun Georg Kreisler\, J.S. Bach\, Erwin Schulhoff\, Kurt Weill\, Eva Cas
 sidy\, Friedrich Hollaender oder andere mehr.\n\nEintritt frei\, Kollekte 
 für die Künstlerinnen\n\nNach der Veranstaltung sind alle zu einem Apér
 o eigeladen.\n\nIn der Röslischüür\, Röslistrasse 9\, 8006 Zürich\n\n
 &nbsp\;
ATTACH;FMTTYPE=image/jpeg:https://www.qkk6.ch/wp-content/uploads/ENSEMBLE-
 MIROIR.png
CATEGORIES:Konzert,Lesung
LOCATION:Röslischüür\, Röslistrasse 9\, Zürich\, 8006\, Schweiz
GEO:47.388508;8.541154
X-APPLE-STRUCTURED-LOCATION;VALUE=URI;X-ADDRESS=Röslistrasse 9\, Zürich\,
  8006\, Schweiz;X-APPLE-RADIUS=100;X-TITLE=Röslischüür:geo:47.388508,8.
 541154
END:VEVENT
BEGIN:VTIMEZONE
TZID:Europe/Zurich
X-LIC-LOCATION:Europe/Zurich
BEGIN:STANDARD
DTSTART:20181028T020000
TZOFFSETFROM:+0200
TZOFFSETTO:+0100
TZNAME:CET
END:STANDARD
END:VTIMEZONE
END:VCALENDAR