BEGIN:VCALENDAR
VERSION:2.0
PRODID:-//wp-events-plugin.com//7.2.3.1//EN
TZID:Europe/Zurich
X-WR-TIMEZONE:Europe/Zurich
BEGIN:VEVENT
UID:69@qkk6.ch
DTSTART;TZID=Europe/Zurich:20190320T200000
DTEND;TZID=Europe/Zurich:20190320T200000
DTSTAMP:20190306T092820Z
URL:https://www.qkk6.ch/events/2019/03/20/literaturzeitschriften-stellen-s
 ich-vor-roeslischuer-zuerich/
SUMMARY:Literaturzeitschriften stellen sich vor
DESCRIPTION:Literaturzeitschriften stellen sich vor:\n\n 	 orte\nWas ist sc
 hon die spannendste Erzählung\, das grossartigste Gedicht\, das nicht gel
 esen werden kann? Noch bevor die Texte als Buch erscheinen\, werden sie un
 s von den Literaturzeitschriften vermittelt. Sie lassen uns Bewegungen\, E
 ntwicklungen oft im Voraus erkennen\, sie sind taugliche Frühwarnsysteme.
  Und sie regen an\, sie spiegeln das kulturelle Leben. Um die wichtigen Fu
 nktionen literarischer Zeitschriften in Erinnerung zu rufen\, eröffnet «
 Quartier Kultur Kreis 6» am 20. März 2019 in der Röslischüür den Zykl
 us:\n«Literaturzeitschriften stellen sich vor»\nDie erste Zeitschrift\, 
 die dem Publikum von ihrer Redaktion präsentiert wird\, ist «orte». 197
 4 gegründet\,&nbsp\; ist sie die älteste unter den Schweizer Literaturze
 itschriften und kann im März dieses Jahres das Erscheinen ihrer 200. Numm
 er feiern.&nbsp\; Dieses Jubiläum soll uns Anlass sein zu einem Einblick 
 in die Redaktionsarbeit\, ins kulturelle Programm\, in die administrativen
  und technischen Voraussetzungen\, die das Erscheinen der Zeitschrift «or
 te» seit nun 45 Jahren ermöglichen. Und nicht zuletzt&nbsp\; will der Ab
 end dem Publikum auch die Entdeckung neuer Dichterinnen und Autoren ermög
 lichen.\n\n&nbsp\;&nbsp\;&nbsp\;&nbsp\;&nbsp\;&nbsp\;&nbsp\;&nbsp\;&nbsp\;
  Informationen unter: www.orteverlag.ch&nbsp\; redaktion@orteverlag.ch\n\n
 Eintritt frei\, Kollekte\n\nNach der Veranstaltung sind alle zu einem Apé
 ro eigeladen.\n\nIn der Röslischüür\, Röslistrasse 9\, 8006 Zürich
ATTACH;FMTTYPE=image/jpeg:https://www.qkk6.ch/wp-content/uploads/Verlage.p
 ng
CATEGORIES:Konzert,Lesung
LOCATION:Röslischüür\, Röslistrasse 9\, Zürich\, 8006\, Schweiz
GEO:47.388508;8.541154
X-APPLE-STRUCTURED-LOCATION;VALUE=URI;X-ADDRESS=Röslistrasse 9\, Zürich\,
  8006\, Schweiz;X-APPLE-RADIUS=100;X-TITLE=Röslischüür:geo:47.388508,8.
 541154
END:VEVENT
BEGIN:VTIMEZONE
TZID:Europe/Zurich
X-LIC-LOCATION:Europe/Zurich
BEGIN:STANDARD
DTSTART:20181028T020000
TZOFFSETFROM:+0200
TZOFFSETTO:+0100
TZNAME:CET
END:STANDARD
END:VTIMEZONE
END:VCALENDAR