BEGIN:VCALENDAR
VERSION:2.0
PRODID:-//wp-events-plugin.com//7.2.3.1//EN
TZID:Europe/Zurich
X-WR-TIMEZONE:Europe/Zurich
BEGIN:VEVENT
UID:66@qkk6.ch
DTSTART;TZID=Europe/Zurich:20190318T200000
DTEND;TZID=Europe/Zurich:20190318T200000
DTSTAMP:20190215T145112Z
URL:https://www.qkk6.ch/events/2019/03/18/moesie-pusik-2/
SUMMARY:Balladen im Rigiblick
DESCRIPTION:\n\nDer Apotheker von Chamounix\nGottfried Keller zum 200 Jahre
  Jubiläum\n&nbsp\;\nDer Gottfried-Keller-Kenner Adolf Muschg liest und di
 e Jodlerin Nadja Raess und der Handorgler Markus Flückiger untermalen den
  Abend schweizerisch.\n\n\n\n\n&nbsp\;\nEine Koproduktion von Quartier-Kul
 tur Kreis 6 und Theater Rigiblick\n&nbsp\;\nEintritt Fr. 28.– / 23.– /
  15.–&nbsp\;&nbsp\; Reservation: 044 361 83 38 oder tickets@theater-rigi
 blick.ch\n\n
ATTACH;FMTTYPE=image/jpeg:https://www.qkk6.ch/wp-content/uploads/balladen1
 .jpg
CATEGORIES:Konzert,Lesung
LOCATION:Theater Rigiblick\, Germaniastrasse 99\, Zürich\, 8044\, Schweiz
GEO:47.388274;8.553456
X-APPLE-STRUCTURED-LOCATION;VALUE=URI;X-ADDRESS=Germaniastrasse 99\, Züric
 h\, 8044\, Schweiz;X-APPLE-RADIUS=100;X-TITLE=Theater Rigiblick:geo:47.388
 274,8.553456
END:VEVENT
BEGIN:VTIMEZONE
TZID:Europe/Zurich
X-LIC-LOCATION:Europe/Zurich
BEGIN:STANDARD
DTSTART:20181028T020000
TZOFFSETFROM:+0200
TZOFFSETTO:+0100
TZNAME:CET
END:STANDARD
END:VTIMEZONE
END:VCALENDAR