BEGIN:VCALENDAR
VERSION:2.0
PRODID:-//wp-events-plugin.com//7.2.3.1//EN
TZID:Europe/Zurich
X-WR-TIMEZONE:Europe/Zurich
BEGIN:VEVENT
UID:65@qkk6.ch
DTSTART;TZID=Europe/Zurich:20190311T200000
DTEND;TZID=Europe/Zurich:20190311T200000
DTSTAMP:20190215T145226Z
URL:https://www.qkk6.ch/events/2019/03/11/moesie-pusik/
SUMMARY:Premiere Moesie & Pusik
DESCRIPTION:\n\n\n\nLewinsky und Schönholzer bringen alles durcheinander\n
 \nWenn ein Schriftsteller und ein Musiker beschliessen\, gemeinsam ein Bü
 hnenprogramm zu gestalten\, dann kann es dafür nur zwei Erklärungen gebe
 n: Entweder die beiden sind sehr gut miteinander befreundet\, oder sie sin
 d verrückt. In diesem Fall trifft beides zu.\n\nDer Liedermacher Markus S
 chönholzer und der Bücherschreiber Charles Lewinsky haben beschlossen\, 
 den Spass\, den sie bei gemeinsamen Arbeiten jedes Mal haben\, auch dem Pu
 blikum zu gönnen\, und dabei ihre Disziplinen gehörig durcheinander zu w
 irbeln. Also nicht sauber getrennt Poesie hier und Musik dort\, sondern eb
 en: „Moesie und Pusik“ – auch wenn der Titel die Korrekturfunktion j
 edes Textprogramms gewaltig ins Schwitzen bringen.\n\nMit einer waghalsige
 n Mischung von Liedern und Texten wollen sie den Beweis antreten\, dass ei
 ns und eins auf der Bühne auch einmal zweieinhalb ergeben können\, und d
 ass sich aus mehreren Kunstformen ein erfrischender Cocktail mischen läss
 t.\n\nKeine Angst: Damit im Publikum keine Panik ausbricht\, haben beide f
 est versprochen\, nicht auch noch zu tanzen.\n\nWas haben die beiden gemei
 nsam\, und was unterscheidet sie?\n\nWas die Musik angeht\, ist der Unters
 chied schnell erklärt: Schönholzer singt Lieder und Lewinsky singt leide
 r auch. Dafür muss Schönholzer bei den Texten die zweite Geige spielen 
 – was gar nicht einfach ist\, wenn man nur eine Gitarre mitgebracht hat.
 \n\nEin Programm mit andern Worten (oder andern Noten)\, bei dem der Zusch
 auer nie so recht weiß\, was ihn als nächstes erwartet. Was ganz passend
  ist\, denn die beiden auf der Bühne wissen es oft auch nicht. Zu ihrem R
 ezept gehört nämlich eine kräftige Prise Improvisation.\n\nDazu ungewö
 hnliche Duette und auch ein paar ganz gewöhnliche Soli. Das Ganze gut umr
 ühren und heiss servieren.\n\n&nbsp\;Eintritt Fr. 28.– / 23.– / 15.
 –&nbsp\;&nbsp\; Reservation: 044 361 83 38&nbsp\; tickets@theater-rigibl
 ick.ch\n\n\n\n
ATTACH;FMTTYPE=image/jpeg:https://www.qkk6.ch/wp-content/uploads/MoesiePus
 ik-kl.jpg
CATEGORIES:Konzert,Lesung
LOCATION:Theater Rigiblick\, Germaniastrasse 99\, Zürich\, 8044\, Schweiz
GEO:47.388274;8.553456
X-APPLE-STRUCTURED-LOCATION;VALUE=URI;X-ADDRESS=Germaniastrasse 99\, Züric
 h\, 8044\, Schweiz;X-APPLE-RADIUS=100;X-TITLE=Theater Rigiblick:geo:47.388
 274,8.553456
END:VEVENT
BEGIN:VTIMEZONE
TZID:Europe/Zurich
X-LIC-LOCATION:Europe/Zurich
BEGIN:STANDARD
DTSTART:20181028T020000
TZOFFSETFROM:+0200
TZOFFSETTO:+0100
TZNAME:CET
END:STANDARD
END:VTIMEZONE
END:VCALENDAR