BEGIN:VCALENDAR
VERSION:2.0
PRODID:-//wp-events-plugin.com//7.2.3.1//EN
TZID:Europe/Zurich
X-WR-TIMEZONE:Europe/Zurich
BEGIN:VEVENT
UID:60@qkk6.ch
DTSTART;TZID=Europe/Zurich:20190217T180000
DTEND;TZID=Europe/Zurich:20190217T180000
DTSTAMP:20190215T150131Z
URL:https://www.qkk6.ch/events/2019/02/17/world-guitar-trio/
SUMMARY:World Guitar Trio
DESCRIPTION:\n\nWorld Guitar Trio\n\n\n\n\n\n\nLevin Deger - Gitarre\nErnes
 to Cortazar Lara - Gitarre\nClaude Stucki - Gitarre\n\nLevin Deger (bekann
 t als Sänger der Sinatra-\, Beatles- &amp\; Cohen-Tribute im Theater Rigi
 blick)\, Ernesto Cortazar Lara &amp\; Claude Stucki bilden das virtuose un
 d melodiöse 'World Guitar Trio'\, dessen Musik in Erinnerungen an mediter
 rane Sommernächte am Meer schwelgen lässt.&nbsp\;\n\nDie Eigenkompositio
 nen aus den Bereichen Rumba\, Tango\, Klassik und weiteren Einflüssen der
  Weltmusik wecken Assoziationen mit dem weltbekannten Gitarren Trio von Pa
 co de Lucía\, John McLaughlin &amp\; Al Di Meola.&nbsp\;Die Stücke wirke
 n wohltuend\, rund und zeitlos\, dabei gibt es viel Platz für solistische
  Einlagen. Ein Hörgenuss auf hohem technischen Niveau mit viel Leidenscha
 ft\n\n\n\n\nEine Koproduktion von Quartier-Kultur Kreis 6 und Theater Rigi
 blick\n\nEintritt: 30.--/25.--&nbsp\; Reservation: 044 361 83 38 oder tick
 ets@theater-rigiblick.ch\nTango Mundial: (Komposition Levin)\nhttps://yout
 u.be/IAx0JHVT1yY\n&nbsp\;\nVenezia: (Komposition Levin)\nhttps://youtu.be/
 W52lAo2tXyo\n\n\n\n\n\n\n\n
ATTACH;FMTTYPE=image/jpeg:https://www.qkk6.ch/wp-content/uploads/IMG_4427.
 jpg
CATEGORIES:Konzert,Lesung
LOCATION:Theater Rigiblick\, Germaniastrasse 99\, Zürich\, 8044\, Schweiz
GEO:47.388274;8.553456
X-APPLE-STRUCTURED-LOCATION;VALUE=URI;X-ADDRESS=Germaniastrasse 99\, Züric
 h\, 8044\, Schweiz;X-APPLE-RADIUS=100;X-TITLE=Theater Rigiblick:geo:47.388
 274,8.553456
END:VEVENT
BEGIN:VTIMEZONE
TZID:Europe/Zurich
X-LIC-LOCATION:Europe/Zurich
BEGIN:STANDARD
DTSTART:20181028T020000
TZOFFSETFROM:+0200
TZOFFSETTO:+0100
TZNAME:CET
END:STANDARD
END:VTIMEZONE
END:VCALENDAR