BEGIN:VCALENDAR
VERSION:2.0
PRODID:-//wp-events-plugin.com//7.2.3.1//EN
TZID:Europe/Zurich
X-WR-TIMEZONE:Europe/Zurich
BEGIN:VEVENT
UID:62@qkk6.ch
DTSTART;TZID=Europe/Zurich:20190210T180000
DTEND;TZID=Europe/Zurich:20190210T180000
DTSTAMP:20181215T210415Z
URL:https://www.qkk6.ch/events/2019/02/10/classic-meets-jazz/
SUMMARY:Classic Meets Jazz
DESCRIPTION:\n\n&nbsp\;\n\n\n&nbsp\;\n\n\n\n\n\n\n\n\nRoll Over Beethoven\n
 \nMaurice Imhof\, Steinway Flügel\n\nDave Ruosch\, Steinway Flügel\n\nOb
  Bach Mozart\, Beethoven\, Grieg oder Rimski-Kosakow ist ihnen egal\, Haup
 tsache\, es eignet sich um verjazzt zu werden. Beide sind sie Meister des 
 Boogie-Woogie und Stride-Pianos und haben eine Klassische Ausbildung genos
 sen\, die ihnen an diesem Abend \, wahrscheinlich nicht ganz im Sinne ihre
 r strengen Konservatoriums Professoren\, zu gute kommt.\n\nEintritt Fr. 30
 .--/25.--\n\nReservation: 044 361 83 38 oder tickets@theater-rigiblick.ch\
 n\n\n\n\n\n\n\n\n
ATTACH;FMTTYPE=image/jpeg:https://www.qkk6.ch/wp-content/uploads/ruosch-im
 hofkl.jpg
CATEGORIES:Konzert,Lesung
LOCATION:Theater Rigiblick\, Germaniastrasse 99\, Zürich\, 8044\, Schweiz
GEO:47.388274;8.553456
X-APPLE-STRUCTURED-LOCATION;VALUE=URI;X-ADDRESS=Germaniastrasse 99\, Züric
 h\, 8044\, Schweiz;X-APPLE-RADIUS=100;X-TITLE=Theater Rigiblick:geo:47.388
 274,8.553456
END:VEVENT
BEGIN:VTIMEZONE
TZID:Europe/Zurich
X-LIC-LOCATION:Europe/Zurich
BEGIN:STANDARD
DTSTART:20181028T020000
TZOFFSETFROM:+0200
TZOFFSETTO:+0100
TZNAME:CET
END:STANDARD
END:VTIMEZONE
END:VCALENDAR