BEGIN:VCALENDAR
VERSION:2.0
PRODID:-//wp-events-plugin.com//7.2.3.1//EN
TZID:Europe/Zurich
X-WR-TIMEZONE:Europe/Zurich
BEGIN:VEVENT
UID:63@qkk6.ch
DTSTART;TZID=Europe/Zurich:20190204T200000
DTEND;TZID=Europe/Zurich:20190204T200000
DTSTAMP:20190126T165718Z
URL:https://www.qkk6.ch/events/2019/02/04/balladen-im-rigiblick-6/
SUMMARY:Balladen im Rigiblick
DESCRIPTION:Vom Zaubern und Tauchen:\naus dem Schatz der grossen Balladentr
 adition: Goethe\, Schiller\, Schubert\n\nCorinna Harfouch rezitiert Goethe
  und Schiller. Werner Güra und Christoph Berner tragen Schubert Balladen 
 vor – berühmte Stücke\, die doch selten im Konzertsaal zu hören sind.
 \n\nCorinna Harfouch\, Rezitation\nWerner Güra\, Tenor\nChristoph Berner\
 , Klavier\nDaniel Fueter\, Konzeption\nSimone Kaufmann\, Licht\n\nEine Kop
 roduktion von Quartier-Kultur Kreis 6 und Theater Rigiblick\n\nEintritt Fr
 . 28.--/23.--/15.—\nReservation: 044 361 83 38 oder tickets@theater-rigi
 blick.ch
ATTACH;FMTTYPE=image/jpeg:https://www.qkk6.ch/wp-content/uploads/güraharf
 ouch.jpg
CATEGORIES:Konzert,Lesung
LOCATION:Theater Rigiblick\, Germaniastrasse 99\, Zürich\, 8044\, Schweiz
GEO:47.388274;8.553456
X-APPLE-STRUCTURED-LOCATION;VALUE=URI;X-ADDRESS=Germaniastrasse 99\, Züric
 h\, 8044\, Schweiz;X-APPLE-RADIUS=100;X-TITLE=Theater Rigiblick:geo:47.388
 274,8.553456
END:VEVENT
BEGIN:VTIMEZONE
TZID:Europe/Zurich
X-LIC-LOCATION:Europe/Zurich
BEGIN:STANDARD
DTSTART:20181028T020000
TZOFFSETFROM:+0200
TZOFFSETTO:+0100
TZNAME:CET
END:STANDARD
END:VTIMEZONE
END:VCALENDAR