BEGIN:VCALENDAR
VERSION:2.0
PRODID:-//wp-events-plugin.com//7.2.3.1//EN
TZID:Europe/Zurich
X-WR-TIMEZONE:Europe/Zurich
BEGIN:VEVENT
UID:57@qkk6.ch
DTSTART;TZID=Europe/Zurich:20190122T193000
DTEND;TZID=Europe/Zurich:20190122T193000
DTSTAMP:20190106T120731Z
URL:https://www.qkk6.ch/events/2019/01/22/mutabor/
SUMMARY:Mutabor - das Zauberwort aus dem Märchen Kalif Storch
DESCRIPTION:\n\n\n\nSusanna Baltensperger\, Cembalo\, Marco Caduff\, Sprech
 er\n\nMutabor - das Zauberwort aus dem Märchen Kalif Storch\n\nist der Le
 itgedanke dieses Soloprogramms: Verwandlung von Melodien\, Harmonien und s
 elbst einzelnen Tönen lassen die Zuhörer aufhorchen. Barocke und zeitgen
 össische Musik auf dem Cembalo!\n\nKollekte für die Künstler\n\n\n\n\nN
 ach dem Konzert sind alle zu einem Apéro eingeladen.\n\nIn der Röslisch
 üür\, Röslistrasse 9\, 8006 Zürich\n\n&nbsp\;
ATTACH;FMTTYPE=image/jpeg:https://www.qkk6.ch/wp-content/uploads/MG_9918kl
 .jpg
CATEGORIES:Konzert,Lesung
LOCATION:Röslischüür\, Röslistrasse 9\, Zürich\, 8006\, Schweiz
GEO:47.388508;8.541154
X-APPLE-STRUCTURED-LOCATION;VALUE=URI;X-ADDRESS=Röslistrasse 9\, Zürich\,
  8006\, Schweiz;X-APPLE-RADIUS=100;X-TITLE=Röslischüür:geo:47.388508,8.
 541154
END:VEVENT
BEGIN:VTIMEZONE
TZID:Europe/Zurich
X-LIC-LOCATION:Europe/Zurich
BEGIN:STANDARD
DTSTART:20181028T020000
TZOFFSETFROM:+0200
TZOFFSETTO:+0100
TZNAME:CET
END:STANDARD
END:VTIMEZONE
END:VCALENDAR