BEGIN:VCALENDAR
VERSION:2.0
PRODID:-//wp-events-plugin.com//7.2.3.1//EN
TZID:Europe/Zurich
X-WR-TIMEZONE:Europe/Zurich
BEGIN:VEVENT
UID:61@qkk6.ch
DTSTART;TZID=Europe/Zurich:20190121T200000
DTEND;TZID=Europe/Zurich:20190121T200000
DTSTAMP:20181215T210247Z
URL:https://www.qkk6.ch/events/2019/01/21/liederlich/
SUMMARY:liederlich
DESCRIPTION:\n\n\n\nliederlich\n\nHighlights der Schweizer Liedermacherszen
 e\n\nSie leben in Zürich und schreiben Mundartlieder. Seit Jahren touren 
 sie durch die Deutschschweiz und geben begeisternde Konzerte\, von Bümpli
 z bis Rorschach\, von Chur bis Basel. Mit ihren frechen\, gehaltvollen und
  hintersinnigen Texten sind sie die neue Generation der Schweizer Troubado
 ure.\n\nExklusiv für das Theater Rigiblick kommen erstmalig die vier in Z
 ürich wohnhaften Liedermacher zusammen und spielen an einem Abend auf ein
 er Bühne ihre schönsten Stücke: Berührend\, mitreissend und meist äus
 serst amüsant.\n\nAn diesem liederlich-Abend hören und sehen Sie Res Wep
 fer\, Kopf des legendären Pfannestil Chammer Sextdeet und Preisträger de
 s Salzburger Stiers\;\n\nUta Köbernick\, scheinintegrierte Zürcherin\, S
 charf- und Querdenkerin aus Ostberlin\, mit ihrer sprachlich virtuosen Kun
 st ebenfalls Inhaberin des renommierten Salzburger Stiers\;\n\nReto Zeller
 \, über den der Tagesanzeiger schrieb\, er besitze den Blick und die Nase
  für alltägliche Absonderlichkeiten sowie die treffsichere\, sprachmäch
 tige Bosheit\, diese noch ein wenig absonderlicher zu gestalten\, als sie 
 sind\;\n\nMarkus Schönholzer\, nicht nur wunderbarer Liedermacher sondern
  auch ein Komponist\, der unzählige Schweizer Musical- und Musiktheaterpr
 oduktionen mit seinen Liedern und Ideen veredelt und zum Erfolg geführt h
 at.\n\nEintritt Fr. 39.--/34.--/25.--\n\nReservation: 044 361 83 38 oder t
 ickets@theater-rigiblick.ch\n\nNächster Termin: 27. Mai 2019\n\n\n\n\n&nb
 sp\;\n\n\n\n\n\n\n\n\n\n&nbsp\;\n\n\n&nbsp\;\n\n&nbsp\;\n\n\n\n\n\n\n\n\n\
 n&nbsp\;
ATTACH;FMTTYPE=image/jpeg:https://www.qkk6.ch/wp-content/uploads/633A7533k
 l.jpg
CATEGORIES:Konzert,Lesung
LOCATION:Theater Rigiblick\, Germaniastrasse 99\, Zürich\, 8044\, Schweiz
GEO:47.388274;8.553456
X-APPLE-STRUCTURED-LOCATION;VALUE=URI;X-ADDRESS=Germaniastrasse 99\, Züric
 h\, 8044\, Schweiz;X-APPLE-RADIUS=100;X-TITLE=Theater Rigiblick:geo:47.388
 274,8.553456
END:VEVENT
BEGIN:VTIMEZONE
TZID:Europe/Zurich
X-LIC-LOCATION:Europe/Zurich
BEGIN:STANDARD
DTSTART:20181028T020000
TZOFFSETFROM:+0200
TZOFFSETTO:+0100
TZNAME:CET
END:STANDARD
END:VTIMEZONE
END:VCALENDAR