BEGIN:VCALENDAR
VERSION:2.0
PRODID:-//wp-events-plugin.com//7.2.3.1//EN
TZID:Europe/Zurich
X-WR-TIMEZONE:Europe/Zurich
BEGIN:VEVENT
UID:58@qkk6.ch
DTSTART;TZID=Europe/Zurich:20190114T200000
DTEND;TZID=Europe/Zurich:20190114T200000
DTSTAMP:20181215T210201Z
URL:https://www.qkk6.ch/events/2019/01/14/exodus/
SUMMARY:EXODOS
DESCRIPTION:\n\n\n\nEXODOS\n\n&nbsp\;Eine Kreation von Kritonas Anastasopou
 los\, Maja Zimmerlin und Michel Bernard\n\nMit Kritonas Anastasopoulos und
  Maja Zimmerlin\n\nInszenierung und Szenographie Michel Bernard \n\nChoreo
 grafie Assistenz Lito Anastasopoulou\nVideo und Visuelles Thomas Delord\nM
 usik Antynomy\, The Social Sanity und Arthur Ancion \n\nPhotos Arthur Anci
 on \n\nLicht und Regie Delphine Dupont\n\nEine Produktion von Unités / No
 made\n\nMit Unterstützung von Théâtre Marni\, Acrobarouf Asbl\, Festiva
 l Ouï\, La Roseraie\, Espace Catastrophe\, Wolubilis\, Studio Ekfrasis De
 rida\, La Vénerie\, Studio&nbsp\; Dansarte\, Quartierkultur Kreis 6\, The
 ater Rigiblick\n\nEintritt Fr. 30.--/25.--\n\nReservation: 044 361 83 38 o
 der tickets@theater-rigiblick.ch\n\n\n\n\n&nbsp\;\n\n\n\n\n\n\n\n\n\n&nbsp
 \;\n\n\n&nbsp\;\n\n&nbsp\;\n\n\n\n\n\n\n\n\n\n&nbsp\;
ATTACH;FMTTYPE=image/jpeg:https://www.qkk6.ch/wp-content/uploads/Exodus-76
 -sur-83.jpeg
CATEGORIES:Konzert,Lesung
LOCATION:Theater Rigiblick\, Germaniastrasse 99\, Zürich\, 8044\, Schweiz
GEO:47.388274;8.553456
X-APPLE-STRUCTURED-LOCATION;VALUE=URI;X-ADDRESS=Germaniastrasse 99\, Züric
 h\, 8044\, Schweiz;X-APPLE-RADIUS=100;X-TITLE=Theater Rigiblick:geo:47.388
 274,8.553456
END:VEVENT
BEGIN:VTIMEZONE
TZID:Europe/Zurich
X-LIC-LOCATION:Europe/Zurich
BEGIN:STANDARD
DTSTART:20181028T020000
TZOFFSETFROM:+0200
TZOFFSETTO:+0100
TZNAME:CET
END:STANDARD
END:VTIMEZONE
END:VCALENDAR