BEGIN:VCALENDAR
VERSION:2.0
PRODID:-//wp-events-plugin.com//7.2.3.1//EN
TZID:Europe/Zurich
X-WR-TIMEZONE:Europe/Zurich
BEGIN:VEVENT
UID:64@qkk6.ch
DTSTART;TZID=Europe/Zurich:20181202T110000
DTEND;TZID=Europe/Zurich:20181202T160000
DTSTAMP:20181202T092910Z
URL:https://www.qkk6.ch/events/2018/12/02/design-weihnachtsmarkt/
SUMMARY:Design Weihnachtsmarkt
DESCRIPTION:Besuchen Sie unseren Weihnachtsmarkt\n\nIn der Röslischüür\,
  Röslistrasse 9\, 8006 Zürich\n\n&nbsp\;
ATTACH;FMTTYPE=image/jpeg:https://www.qkk6.ch/wp-content/uploads/Flyer-Des
 ign-Weihnachtsmarkt-RZ.jpg
CATEGORIES:Markt
LOCATION:Röslischüür\, Röslistrasse 9\, Zürich\, 8006\, Schweiz
GEO:47.388508;8.541154
X-APPLE-STRUCTURED-LOCATION;VALUE=URI;X-ADDRESS=Röslistrasse 9\, Zürich\,
  8006\, Schweiz;X-APPLE-RADIUS=100;X-TITLE=Röslischüür:geo:47.388508,8.
 541154
END:VEVENT
BEGIN:VTIMEZONE
TZID:Europe/Zurich
X-LIC-LOCATION:Europe/Zurich
BEGIN:STANDARD
DTSTART:20181028T020000
TZOFFSETFROM:+0200
TZOFFSETTO:+0100
TZNAME:CET
END:STANDARD
END:VTIMEZONE
END:VCALENDAR